BEGIN:VCALENDAR
VERSION:2.0
PRODID:-//StivoZ.gr - ECPv5.16.4//NONSGML v1.0//EN
CALSCALE:GREGORIAN
METHOD:PUBLISH
X-WR-CALNAME:StivoZ.gr
X-ORIGINAL-URL:https://www.stivoz.gr
X-WR-CALDESC:StivoZ.gr - Εκδηλώσεις
BEGIN:VTIMEZONE
TZID:Europe/Athens
BEGIN:STANDARD
TZOFFSETFROM:+0200
TZOFFSETTO:+0200
TZNAME:EET
DTSTART:20110101T000000
END:STANDARD
END:VTIMEZONE
BEGIN:VEVENT
DTSTART;VALUE=DATE:20110529
DTEND;VALUE=DATE:20260426
DTSTAMP:20260425T033032
CREATED:20110414T211750Z
LAST-MODIFIED:20220322T084103Z
UID:28592-1306627200-0@www.stivoz.gr
SUMMARY:Πανελ.Πρ. βουνού (Πάρνηθα)
DESCRIPTION:10:00 – 12χλμ Ανδρών\n10:10 – 8χλμ Γυναικών \nεκκίνηση & τερματισμός: ελικοδρόμιο ξενοδοχείου MΟΝ ΠΑΡΝΕΣ (Mont Parnes)\nενδιάμεσα\, κυκλική διαδρομή 3\,5 χλμ
URL:https://www.stivoz.gr/event/panellinio-oreino-2011/
CATEGORIES:Ημερολόγιο αγώνων
END:VEVENT
END:VCALENDAR