BEGIN:VCALENDAR
VERSION:2.0
PRODID:-//StivoZ.gr - ECPv5.16.4//NONSGML v1.0//EN
CALSCALE:GREGORIAN
METHOD:PUBLISH
X-WR-CALNAME:StivoZ.gr
X-ORIGINAL-URL:https://www.stivoz.gr
X-WR-CALDESC:StivoZ.gr - Εκδηλώσεις
BEGIN:VTIMEZONE
TZID:Europe/Athens
BEGIN:DAYLIGHT
TZOFFSETFROM:+0200
TZOFFSETTO:+0300
TZNAME:EEST
DTSTART:20140330T010000
END:DAYLIGHT
BEGIN:STANDARD
TZOFFSETFROM:+0300
TZOFFSETTO:+0200
TZNAME:EET
DTSTART:20141026T010000
END:STANDARD
END:VTIMEZONE
BEGIN:VEVENT
DTSTART;VALUE=DATE:20140208
DTEND;VALUE=DATE:20140210
DTSTAMP:20260419T163258
CREATED:20131123T131509Z
LAST-MODIFIED:20181218T094859Z
UID:28836-1391850000-1391979600@www.stivoz.gr
SUMMARY:Πανελλήνιο κλειστού
DESCRIPTION:-> Αποτελέσματα\n-> Δείγματα φωτογραφιών \nΣχετικά θέματα:\n– www.stivoz.com/forum/showthread.php?10879 (1η ημέρα – προκριματικά)\n– www.stivoz.com/forum/showthread.php?10883 (1η ημέρα – 60μ)\n– www.stivoz.com/forum/showthread.php?10885 (1η ημέρα – μήκος Α)\n– www.stivoz.com/forum/showthread.php?10887 (1η ημέρα – επικοντώ Α)\n– www.stivoz.com/forum/showthread.php?10875 (1η ημέρα – υπολοιπα)\n– www.stivoz.com/forum/showthread.php?10889 (2η ημέρα – προκριματικά)\n– www.stivoz.com/forum/showthread.php?10895 (2η ημέρα – 60μ.εμπ. Α)\n– www.stivoz.com/forum/showthread.php?10892 (2η ημέρα – υπολοιπα)\n– www.stivoz.com/content.php?3546 (στιγμές…) \nLivestreaming από www.sportshero.gr \nΤηλεοπτ. μετάδοση (ΔΤ) : Σαββατο απευθείας\, 19.15 έως 21.00\nκαι της Κυριακής τη Δευτέρα σε μαγνητοσκόπηση\, 19.00 -21.00 \nΣυμμετοχές (θα υπάρξουν ορισμένες συμπληρωματικές):\n-> Άνδρες\n-> Γυναίκες \n-> Όρια για παγκόσμιο \nΩΡΟΛΟΓΙΟ ΠΡΟΓΡΑΜΜΑ \nΑ΄ ΗΜΕΡΑ : ΣΑΒΒΑΤΟ 8 ΦΕΒΡΟΥΑΡΙΟΥ 2014 \n09:00	ΑΛΜΑ ΣΕ ΜΗΚΟΣ	ΓΥΝΑΙΚΩΝ	Αγώνας Επιλογής	5\,80μ.\n09:00	ΣΦΑΙΡΟΒΟΛΙΑ	ΑΝΔΡΩΝ	Αγώνας Επιλογής	14\,50μ.\n09:30	60μ.	ΕΠΤΑΘΛΟ 1\n09:45	60μ.	ΑΝΔΡΩΝ	Προκριματικές Σειρές\n10:00	ΑΛΜΑ ΕΠΙ ΚΟΝΤΩ	ΑΝΔΡΩΝ Αγώνας Επιλογής/1ο Γκρουπ	4\,60μ. – δεν θα γίνει προκριματικός\n10:00	ΑΛΜΑ ΣΕ ΥΨΟΣ	ΑΝΔΡΩΝ	Αγώνας Επιλογής/1ο Γκρουπ	2\,05μ. – δεν θα γίνει προκριματικός\n10:15	ΑΛΜΑ ΣΕ ΜΗΚΟΣ	ΕΠΤΑΘΛΟ 2\n10:20	ΑΛΜΑ ΕΠΙ ΚΟΝΤΩ	ΑΝΔΡΩΝ Αγώνας Επιλογής/2ο Γκρουπ	4\,60μ. – δεν θα γίνει προκριματικός\n10:20	ΑΛΜΑ ΣΕ ΥΨΟΣ	ΑΝΔΡΩΝ	Αγώνας Επιλογής/2ο Γκρουπ	2\,05μ. – δεν θα γίνει προκριματικός\n11:00	60μ.	ΓΥΝΑΙΚΩΝ	Προκριματικές Σειρές\n11:30	ΑΛΜΑ ΣΕ ΜΗΚΟΣ	ΑΝΔΡΩΝ	Αγώνας Επιλογής	7\,30μ.\n11:35	400μ.	ΑΝΔΡΩΝ	Προκριματικές Σειρές\n11:45	ΣΦΑΙΡΟΒΟΛΙΑ	ΕΠΤΑΘΛΟ 3\n12:30	400μ.	ΓΥΝΑΙΚΩΝ	Προκριματικές Σειρές\n13:10	1.500μ.	ΑΝΔΡΩΝ	Προκριματικές Σειρές\n13:30	ΑΛΜΑ ΣΕ ΥΨΟΣ	ΕΠΤΑΘΛΟ 4\n13:40	1.500μ.	ΓΥΝΑΙΚΩΝ	Προκριματικές Σειρές – δεν θα γίνει προκριματικός \n17:55	5.000μ. Βάδην	ΑΝΔΡΩΝ	ΤΕΛΙΚΟΣ\n18:10	ΑΛΜΑ ΣΕ ΜΗΚΟΣ	ΓΥΝΑΙΚΩΝ	ΤΕΛΙΚΟΣ\n18:15	ΣΦΑΙΡΟΒΟΛΙΑ	ΑΝΔΡΩΝ	ΤΕΛΙΚΟΣ\n18:25	3.000μ. Βάδην	ΓΥΝΑΙΚΩΝ	ΤΕΛΙΚΟΣ\n18:30	ΑΛΜΑ ΕΠΙ ΚΟΝΤΩ	ΑΝΔΡΩΝ	ΤΕΛΙΚΟΣ\n18:55	60μ. Παιδικός Αγώνας	Κορίτσια\n19:00	60μ. Παιδικός Αγώνας	Αγόρια\n19:10	ΑΛΜΑ ΣΕ ΥΨΟΣ	ΑΝΔΡΩΝ	ΤΕΛΙΚΟΣ\n19:15	60μ.	ΑΝΔΡΩΝ	1η ΤΕΛΙΚΗ ΣΕΙΡΑ\n19:21	60μ.	ΑΝΔΡΩΝ	2η ΤΕΛΙΚΗ ΣΕΙΡΑ\n19:30	60μ.	ΓΥΝΑΙΚΩΝ	1η ΤΕΛΙΚΗ ΣΕΙΡΑ\n19:36	60μ.	ΓΥΝΑΙΚΩΝ	2η ΤΕΛΙΚΗ ΣΕΙΡΑ\n19:40	ΑΛΜΑ ΣΕ ΜΗΚΟΣ	ΑΝΔΡΩΝ	ΤΕΛΙΚΟΣ\n19:45	400μ.	ΑΝΔΡΩΝ	1η ΤΕΛΙΚΗ ΣΕΙΡΑ\n19:51	400μ.	ΑΝΔΡΩΝ	2η ΤΕΛΙΚΗ ΣΕΙΡΑ\n20:00	400μ.	ΓΥΝΑΙΚΩΝ	1η ΤΕΛΙΚΗ ΣΕΙΡΑ\n20:06	400μ.	ΓΥΝΑΙΚΩΝ	2η ΤΕΛΙΚΗ ΣΕΙΡΑ\n20:15	1.500μ.	ΑΝΔΡΩΝ	ΤΕΛΙΚΕΣ ΣΕΙΡΕΣ\n20:35	1.500μ.	ΓΥΝΑΙΚΩΝ	ΤΕΛΙΚΕΣ ΣΕΙΡΕΣ \nΒ΄ ΗΜΕΡΑ : ΚΥΡΙΑΚΗ 9 ΦΕΒΡΟΥΑΡΙΟΥ 2014 \n10:00	ΑΛΜΑ ΤΡΙΠΛΟΥΝ	ΑΝΔΡΩΝ	Αγώνας Επιλογής	15\,00μ.\n10:00	ΣΦΑΙΡΟΒΟΛΙΑ	ΓΥΝΑΙΚΩΝ	Αγώνας Επιλογής	13\,00μ.\n10:00	ΑΛΜΑ ΕΠΙ ΚΟΝΤΩ	ΓΥΝΑΙΚΩΝ Αγώνας Επιλογής/1ο Γκρουπ	 3\,60μ.\n10:00	ΑΛΜΑ ΣΕ ΥΨΟΣ	ΓΥΝΑΙΚΩΝ	Αγώνας Επιλογής/1ο Γκρουπ	1\,70μ. – δεν θα γίνει προκριματικός\n10:00	60μ. με Εμπόδια	ΑΝΔΡΩΝ	Προκριματικές Σειρές\n10:20	ΑΛΜΑ ΕΠΙ ΚΟΝΤΩ ΓΥΝΑΙΚΩΝ Αγώνας Επιλογής/2ο Γκρουπ	3\,60μ.\n10:20	ΑΛΜΑ ΣΕ ΥΨΟΣ	ΓΥΝΑΙΚΩΝ	Αγώνας Επιλογής/2ο Γκρουπ	1\,70μ. – δεν θα γίνει προκριματικός\n10:25	60μ. με Εμπόδια	ΓΥΝΑΙΚΩΝ	Προκριματικές Σειρές – δεν θα γίνει προκριματικός\n10:30	800μ.	ΑΝΔΡΩΝ 	Προκριματικές Σειρές\n10:45	800μ.	ΓΥΝΑΙΚΩΝ	Προκριματικές Σειρές – δεν θα γίνει προκριματικός\n10:55	200μ.	ΑΝΔΡΩΝ 	Προκριματικές Σειρές\n11:30	ΑΛΜΑ ΤΡΙΠΛΟΥΝ	ΓΥΝΑΙΚΩΝ	Αγώνας Επιλογής	12\,60μ.\n12:05	60μ. με Εμπόδια	ΠΕΝΤΑΘΛΟ 1\n12:10	200μ.	ΓΥΝΑΙΚΩΝ	Προκριματικές Σειρές\n12:45	ΑΛΜΑ ΣΕ ΥΨΟΣ	ΠΕΝΤΑΘΛΟ 2\n13:00	60μ. με Εμπόδια	ΕΠΤΑΘΛΟ 5	 \n14:00	ΑΛΜΑ ΕΠΙ ΚΟΝΤΩ ΕΠΤΑΘΛΟ 6\n14:30	ΣΦΑΙΡΟΒΟΛΙΑ	ΠΕΝΤΑΘΛΟ 3\n15:30	ΑΛΜΑ ΣΕ ΜΗΚΟΣ	ΠΕΝΤΑΘΛΟ 4	 \n16:00	ΣΦΑΙΡΟΒΟΛΙΑ	ΓΥΝΑΙΚΩΝ	ΤΕΛΙΚΟΣ\n16:45	3.000μ.	ΑΝΔΡΩΝ	1η ΤΕΛΙΚΗ ΣΕΙΡΑ\n16:55	ΑΛΜΑ ΤΡΙΠΛΟΥΝ	ΑΝΔΡΩΝ	ΤΕΛΙΚΟΣ\n17:00	3.000μ.	ΑΝΔΡΩΝ	2η ΤΕΛΙΚΗ ΣΕΙΡΑ\n17:15	3.000μ.	ΓΥΝΑΙΚΩΝ	ΤΕΛΙΚΟΣ\n17:35	1000μ.	ΕΠΤΑΘΛΟ 7\n17:45	ΑΛΜΑ ΕΠΙ ΚΟΝΤΩ	ΓΥΝΑΙΚΩΝ	ΤΕΛΙΚΟΣ\n17:50	800μ.	ΠΕΝΤΑΘΛΟ 5\n18:05	60μ. με Εμπόδια	ΑΝΔΡΩΝ	1η ΤΕΛΙΚΗ ΣΕΙΡΑ\n18:10	ΑΛΜΑ ΣΕ ΥΨΟΣ	ΓΥΝΑΙΚΩΝ	ΤΕΛΙΚΟΣ\n18:12	60μ. με  Εμπόδια	ΑΝΔΡΩΝ	2η ΤΕΛΙΚΗ ΣΕΙΡΑ\n18:25	60μ. με Εμπόδια	ΓΥΝΑΙΚΩΝ	1η ΤΕΛΙΚΗ ΣΕΙΡΑ\n18:30	ΑΛΜΑ ΤΡΙΠΛΟΥΝ	ΓΥΝΑΙΚΩΝ	ΤΕΛΙΚΟΣ\n18:32	60μ. με Εμπόδια	ΓΥΝΑΙΚΩΝ	2η ΤΕΛΙΚΗ ΣΕΙΡΑ\n18:40	200μ.	ΑΝΔΡΩΝ	1η ΤΕΛΙΚΗ ΣΕΙΡΑ\n18:46	200μ.	ΑΝΔΡΩΝ	2η ΤΕΛΙΚΗ ΣΕΙΡΑ\n18:55	200μ.	ΓΥΝΑΙΚΩΝ	1η ΤΕΛΙΚΗ ΣΕΙΡΑ\n19:01	200μ.	ΓΥΝΑΙΚΩΝ	2η ΤΕΛΙΚΗ ΣΕΙΡΑ\n19:10	800μ.	ΑΝΔΡΩΝ	1η ΤΕΛΙΚΗ ΣΕΙΡΑ\n19:16	800μ.	ΑΝΔΡΩΝ	2η ΤΕΛΙΚΗ ΣΕΙΡΑ\n19:25	800μ.	ΓΥΝΑΙΚΩΝ	2η ΤΕΛΙΚΗ ΣΕΙΡΑ\n19:31	800μ.	ΓΥΝΑΙΚΩΝ	1η ΤΕΛΙΚΗ ΣΕΙΡΑ \nΠΙΝΑΚΑΣ ΟΡΙΩΝ ΣΥΜΜΕΤΟΧΗΣ \nΠΑΝΕΛΛΗΝΙΟΥ ΠΡΩΤΑΘΛΗΜΑΤΟΣ ΚΛΕΙΣΤΟΥ ΣΤΙΒΟΥ ΑΝΔΡΩΝ – ΓΥΝΑΙΚΩΝ \nΑνδρών	Αγωνίσματα	Γυναικών\n100μ.: 11.90	60μ.	100μ.: 13.20\n23.90	200μ.	27.50\n53.00	400μ.	63.50\n2:04.00	800μ.	2:29.00\n4:20.00	1500μ.	5:08.00\n9:37.00	3000μ.	12:00.00\n52:00.00 (10χλμ.) ή 24:30.00 (5χλμ.)	5.000μ. / 3.000μ. Βάδην 57:00.00 (10χλμ.) ή16:40.00 (3χλμ.) \n110μ. Εμπ.: 16.90	60μ. με Εμπόδια	100μ. Εμπ.: 17.30\n1\,85μ.	Άλμα σε Ύψος	1\,55μ.\n4\,30μ.	Άλμα επί Κοντώ	3\,30μ.\n6\,40μ.	Άλμα σε Μήκος	5\,15μ.\n13\,80μ.	Άλμα Τριπλούν	11\,60μ.\n10\,00μ. Α & Ν / 12\,00μ. Ε	Σφαιροβολία	10\,00μ.\nΔέκαθλο: 5.000 Βαθμοί	Έπταθλο / Πένταθλο	Έπταθλο: 3.000 Βαθμοί \nΕπιπλέον προϋποθέσεις\nΔικαίωμα συμμετοχής έχουν επίσης οι αθλητές – αθλήτριες που εκπληρώνουν μία από τις παρακάτω προϋποθέσεις :\n– Να έχουν  καταταγεί  στη 12αδα του αντίστοιχου  ατομικού αγωνίσματος στο Πανελλήνιο Πρωτάθλημα  που αγωνίστηκαν την  προηγούμενη χρονιά  2013.\n– Να έχουν καταταγεί στη  15αδα της Ετήσιας Λίστας Α-Γ του προηγούμενου έτους 2013\, στο αντίστοιχο όμως ατομικό αγώνισμα που θα συμμετάσχουν \nΣυμμετοχή Χωρίς Όριο (Χ.Ο.) ΜΟΝΟ ΓΙΑ ΑΘΛΗΤΕΣ-ΤΡΙΕΣ ΓΕΝΗΜΜΕΝΟΙ ΤΟ 1987 ΚΑΙ ΝΕΩΤΕΡΟΙ (μέχρι 27 ετών)\nΚάθε  σύλλογος  μπορεί  να  δηλώσει  στο Πανελλήνιο Πρωτάθλημα Κλειστού Στίβου Ανδρών – Γυναικών και:\nΕΝΑΝ αθλητή – τρια που  δεν  πληρε ίτις  παραπάνω  προϋποθέσεις\, αν από το σύλλογο αυτό δεν έχει προκριθεί κανένας αθλητής – αθλήτρια ή έχουν προκριθεί μέχρι 4 αθλητές-τριες συνολικά\, ή\, ΔΥΟ αθλητές – αθλήτριες  που  δεν  πληρούν  τις  παραπάνω  προϋποθέσεις\, αν από το σύλλογο αυτό έχουν προκριθεί από 5 και πάνω αθλητές-τριες συνολικά.\nΜπορεί όμως το σωματείο να δηλώσει έναν μόνο αθλητή χωρίς όριο\, σε 2 αγωνίσματα. \nΟι δηλώσεις συμμετοχής πρέπει να σταλούν στο Σ.Ε.Γ.Α.Σ. με email το αργότερο μέχρι και τη Δευτέρα 3 Φεβρουαρίου 2014 και ώρα 14.00 στην ηλεκτρονική διεύθυνση marathon@segas.gr καθώς και στις κατά τόπους Ε.Α.Σ. – Τ.Ε. Σ.Ε.Γ.Α.Σ.
URL:https://www.stivoz.gr/event/panellinio-indoor-2014/
CATEGORIES:Ημερολόγιο αγώνων
END:VEVENT
END:VCALENDAR