BEGIN:VCALENDAR
VERSION:2.0
PRODID:-//StivoZ.gr - ECPv5.16.4//NONSGML v1.0//EN
CALSCALE:GREGORIAN
METHOD:PUBLISH
X-WR-CALNAME:StivoZ.gr
X-ORIGINAL-URL:https://www.stivoz.gr
X-WR-CALDESC:StivoZ.gr - Εκδηλώσεις
BEGIN:VTIMEZONE
TZID:Europe/Athens
BEGIN:DAYLIGHT
TZOFFSETFROM:+0200
TZOFFSETTO:+0300
TZNAME:EEST
DTSTART:20080330T010000
END:DAYLIGHT
BEGIN:STANDARD
TZOFFSETFROM:+0300
TZOFFSETTO:+0200
TZNAME:EET
DTSTART:20081026T010000
END:STANDARD
END:VTIMEZONE
BEGIN:VEVENT
DTSTART;VALUE=DATE:20080223
DTEND;VALUE=DATE:20080225
DTSTAMP:20260422T052738
CREATED:20071011T115251Z
LAST-MODIFIED:20181218T110130Z
UID:28159-1203757200-1203886800@www.stivoz.gr
SUMMARY:22ο Πανελλήνιο Πρωτάθλημα Κλειστού Α/Γ
DESCRIPTION:Σάββατο 23/2 \nΠρωί (προκριματικά)\n10.00 Μήκος Γ\n10.15 1.500μ Α\n10.30 Ύψος Α\n10.30 400μ Γ\n11.00 400μ Α\n11.30 Μήκος Α\n11.30 60μ Γ\n11.50 60μ Α \nΑπόγευμα (τελικοί)\n18.20 Μήκος Γ\n18.30 Σφαιροβολία Γ\n19.00 Επί κοντώ Γ\n19.00 Ύψος Α\n19.05 1.500μ Γ\n19.20 1.500μ Α\n19.30 400μ Γ (1η Τελική σειρά)\n19.40 400μ Γ (2η Τελική σειρά)\n19.55 400μ Α (1η Τελική σειρά)\n20.00 400μ Α (2η Τελική σειρά)\n20.00 Μήκος Α\n20.15 60μ Γ (1η τελική σειρά)\n20.25 60μ Γ (2η Τελική σειρά)\n20.35 60μ Α (1η Τελική σειρά)\n20.45 60μ Α (2η Τελική σειρά) \nΚυριακή 24/2  \nΠρωί (προκριματικά)\n10.00 Σφαιροβολία Α\n10.00 Επί κοντώ Α\n10.00 Τριπλούν Α\n10.15 800μ Α\n10.35 60μ εμπόδια Α\n11.30 Τριπλούν Γ  \nΑπόγευμα (τελικοί)\n18.00 Σφαιροβολία Α\n18.20 Τριπλούν Α\n18.45 3.000μ Α (1η Τελική σειρά)\n19.00 Επί κοντώ Α\n19.05 3.000μ Α (2η Τελική σειρά)\n19.15 Ύψος Γ\n19.25 3.000μ Γ\n19.45 800μ Α (1η Τελική σειρά)\n19.55 800μ Α (2η Τελική σειρά)\n20.00 Τριπλούν Γ\n20.05 800μ Γ (1η Τελική σειρά)\n20.10 800μ Γ (2η Τελική σειρά)\n20.15 60μ εμπόδια Α (1η Τελική σειρά)\n20.25 60μ εμπόδια Α (2η Τελική σειρά)\n20.40 60μ εμπόδια Γ (1η Τελική σειρά)\n20.45 60μ εμπόδια Γ (2η Τελική σειρά)\n20.55 4χ400μ Α (2η Τελική σειρά)\n21.05 4χ400μ Γ (2η Τελική σειρά)\n21.15 4χ400μ Γ (1η Τελική σειρά\, αν παραστεί ανάγκη)\n21.25 4χ400μ Α (1η Τελική σειρά\, αν παραστεί ανάγκη)
URL:https://www.stivoz.gr/event/panellinio-indoor-2008/
CATEGORIES:Ημερολόγιο αγώνων
END:VEVENT
END:VCALENDAR