BEGIN:VCALENDAR
VERSION:2.0
PRODID:-//StivoZ.gr - ECPv5.16.4//NONSGML v1.0//EN
CALSCALE:GREGORIAN
METHOD:PUBLISH
X-WR-CALNAME:StivoZ.gr
X-ORIGINAL-URL:https://www.stivoz.gr
X-WR-CALDESC:StivoZ.gr - Εκδηλώσεις
BEGIN:VTIMEZONE
TZID:Europe/Athens
BEGIN:DAYLIGHT
TZOFFSETFROM:+0200
TZOFFSETTO:+0300
TZNAME:EEST
DTSTART:20240331T010000
END:DAYLIGHT
BEGIN:STANDARD
TZOFFSETFROM:+0300
TZOFFSETTO:+0200
TZNAME:EET
DTSTART:20241027T010000
END:STANDARD
END:VTIMEZONE
BEGIN:VEVENT
DTSTART;VALUE=DATE:20240525
DTEND;VALUE=DATE:20240527
DTSTAMP:20260419T193836
CREATED:20240526T171724Z
LAST-MODIFIED:20240526T171724Z
UID:115646-1716595200-1716767999@www.stivoz.gr
SUMMARY:Πανελλήνιο συνθέτων Κ20 & Κ16 (Κιλκίς)
DESCRIPTION:Σχετικά θέματα:\n– www.stivoz.gr/panellinio-ce-u20-u16-2024/ (αποτελέσματα) \n-> βαθμολογία συνθέτων
URL:https://www.stivoz.gr/event/panellinio-ce-u20-u16-2024/
CATEGORIES:Ημερολόγιο αγώνων
END:VEVENT
END:VCALENDAR