BEGIN:VCALENDAR
VERSION:2.0
PRODID:-//StivoZ.gr - ECPv5.16.4//NONSGML v1.0//EN
CALSCALE:GREGORIAN
METHOD:PUBLISH
X-WR-CALNAME:StivoZ.gr
X-ORIGINAL-URL:https://www.stivoz.gr
X-WR-CALDESC:StivoZ.gr - Εκδηλώσεις
BEGIN:VTIMEZONE
TZID:Europe/Athens
BEGIN:DAYLIGHT
TZOFFSETFROM:+0200
TZOFFSETTO:+0300
TZNAME:EEST
DTSTART:20250330T010000
END:DAYLIGHT
BEGIN:STANDARD
TZOFFSETFROM:+0300
TZOFFSETTO:+0200
TZNAME:EET
DTSTART:20251026T010000
END:STANDARD
END:VTIMEZONE
BEGIN:VEVENT
DTSTART;VALUE=DATE:20250621
DTEND;VALUE=DATE:20250623
DTSTAMP:20260422T035140
CREATED:20250411T063015Z
LAST-MODIFIED:20250625T104239Z
UID:123682-1750464000-1750636799@www.stivoz.gr
SUMMARY:Πανελλήνιο συνθέτων Α/Γ (Πάτρα)
DESCRIPTION:Σχετικά θέματα:\n– www.stivoz.gr/panellinio-ce-2025/ (αποτελέσματα) \n-> Βαθμολογία συνθέτων\n-> Σύνθετα: πληροφορίες\, ιστορικό \nΠρόγραμμα (αν.20/6) \nΣΑΒ. 21/6 \n09:30 – 100μ. με Εμπόδια Γ #1/7\n09:45 – 100μ. Α #1/10\n11:00 – Άλμα σε Ύψος Γ #2/7\n11:55 – Άλμα σε Μήκος Α #2/10\n13:05 – Σφαιροβολία Α #3/10 \n17:45 – Σφαιροβολία Γ #3/7\n17:45 – Άλμα σε Ύψος Α #4/10\n19:40 – 200μ. Γ #4/7\n20:50 – 400μ Α #5/10 \nΚΥΡ. 22/6 \n09:05 – 110μ. με Εμπόδια Α #6/10\n10:30 – Δισκοβολία Α #7/10\n10:30 – Άλμα σε Μήκος Γ #5/7\n11:45 – Άλμα Επί Κοντώ Α #8/10\n13:15 – Ακοντισμός Γ #6/7 \n17:00 – Ακοντισμός Α #9/10\n19:10 – 800μ. Γ #7/7\n19:25 – 1500μ. Α #10/10 \nΟι δηλώσεις συμμετοχής πρέπει να σταλούν μέχρι τη ΔΕΥΤΕΡΑ 16 ΙΟΥΝΙΟΥ 2025 και ώρα 23:00 στον Σ.Ε.Γ.Α.Σ. στην ηλ. διεύθυνση entries@segas.gr καθώς και στις κατά τόπους Ε.Α.Σ. Σ.ΕΓ.Α.Σ
URL:https://www.stivoz.gr/event/panellinio-ce-2025/
CATEGORIES:Ημερολόγιο αγώνων
END:VEVENT
END:VCALENDAR