BEGIN:VCALENDAR
VERSION:2.0
PRODID:-//StivoZ.gr - ECPv5.16.4//NONSGML v1.0//EN
CALSCALE:GREGORIAN
METHOD:PUBLISH
X-WR-CALNAME:StivoZ.gr
X-ORIGINAL-URL:https://www.stivoz.gr
X-WR-CALDESC:StivoZ.gr - Εκδηλώσεις
BEGIN:VTIMEZONE
TZID:Europe/Athens
BEGIN:DAYLIGHT
TZOFFSETFROM:+0200
TZOFFSETTO:+0300
TZNAME:EEST
DTSTART:20230326T010000
END:DAYLIGHT
BEGIN:STANDARD
TZOFFSETFROM:+0300
TZOFFSETTO:+0200
TZNAME:EET
DTSTART:20231029T010000
END:STANDARD
END:VTIMEZONE
BEGIN:VEVENT
DTSTART;VALUE=DATE:20230701
DTEND;VALUE=DATE:20230703
DTSTAMP:20260422T035141
CREATED:20230531T101355Z
LAST-MODIFIED:20240706T193034Z
UID:105123-1688169600-1688342399@www.stivoz.gr
SUMMARY:Πανελλήνιο συνθέτων Α/Γ (Πάτρα)
DESCRIPTION:μεταφέρθηκαν 1-2/7 (από 24-25/6\, λόγω εκλογών)\n-παράλληλα διεξάγεται το πανελλήνιο Κ18- \nΣχετικά θέματα:\n– www.stivoz.gr/patra-i-ntragkomirova-kai-i-oikogeneia-andreoglou/\n– www.stivoz.gr/panellinio-ce-2023/ (αποτελέσματα) \n-> Βαθμολογία συνθέτων\n-> Σύνθετα: πληροφορίες\, ιστορικό \nΠρόγραμμα (αν.29/6) : \nΑ΄ ΗΜΕΡΑ: 1 ΙΟΥΛΙΟΥ 2023 \n10.00 100μ. ΕΜΠ. 7αθλου ΓΥΝΑΙΚΩΝ\n10.20 100μ. 10αθλου ΑΝΔΡΩΝ\n11.35 ΥΨΟΣ 7αθλου ΓΥΝΑΙΚΩΝ\n12.00 ΜΗΚΟΣ 10αθλου (Α΄+Β΄ Σκάμμα) ΑΝΔΡΩΝ\n13.30 ΣΦΑΙΡΑ 10αθλου ΑΝΔΡΩΝ (Βοηθητικό) \n17.30 ΣΦΑΙΡΟΒΟΛΙΑ 7αθλου ΓΥΝΑΙΚΩΝ (Βοηθητικό)\n17.30 ΥΨΟΣ 10αθλου ΑΝΔΡΩΝ (2 στρώματα)\n19.15 200μ. 7αθλου ΓΥΝΑΙΚΩΝ\n20.45 400μ 10αθλου ΑΝΔΡΩΝ \nΒ΄ ΗΜΕΡΑ: ΚΥΡΙΑΚΗ 2 ΙΟΥΛΙΟΥ 2023 \n09.00 110μ. ΕΜΠ 10αθλου ΑΝΔΡΩΝ\n10.30 ΔΙΣΚΟΒΟΛΙΑ 10αθλου ΑΝΔΡΩΝ\n10.30 ΜΗΚΟΣ 7αθλου (Α΄+ Β΄ Σκάμμα) ΓΥΝΑΙΚΩΝ\n11.45 ΕΠΙ ΚΟΝΤΩ 10αθλου ΑΝΔΡΩΝ\n11.45 ΑΚΟΝΤΙΣΜΟΣ 7αθλου ΓΥΝΑΙΚΩΝ (Βοηθητικό) \n17.00 ΑΚΟΝΤΙΣΜΟΣ 10αθλου ΑΝΔΡΩΝ\n18.45 800μ. 7αθλου ΓΥΝΑΙΚΩΝ\n19.20 1500μ. 10αθλου ΑΝΔΡΩΝ
URL:https://www.stivoz.gr/event/panellinio-ce-2023/
CATEGORIES:Ημερολόγιο αγώνων
END:VEVENT
END:VCALENDAR