BEGIN:VCALENDAR
VERSION:2.0
PRODID:-//StivoZ.gr - ECPv5.16.4//NONSGML v1.0//EN
CALSCALE:GREGORIAN
METHOD:PUBLISH
X-WR-CALNAME:StivoZ.gr
X-ORIGINAL-URL:https://www.stivoz.gr
X-WR-CALDESC:StivoZ.gr - Εκδηλώσεις
BEGIN:VTIMEZONE
TZID:Europe/Athens
BEGIN:DAYLIGHT
TZOFFSETFROM:+0200
TZOFFSETTO:+0300
TZNAME:EEST
DTSTART:20180325T010000
END:DAYLIGHT
BEGIN:STANDARD
TZOFFSETFROM:+0300
TZOFFSETTO:+0200
TZNAME:EET
DTSTART:20181028T010000
END:STANDARD
END:VTIMEZONE
BEGIN:VEVENT
DTSTART;VALUE=DATE:20180707
DTEND;VALUE=DATE:20180709
DTSTAMP:20260420T034810
CREATED:20180427T202142Z
LAST-MODIFIED:20220421T105807Z
UID:29349-1530952200-1531078200@www.stivoz.gr
SUMMARY:Πανελ.πρωτ. συνθέτων (Θεσσαλονίκη) 2018
DESCRIPTION:Σχετικά θέματ:\n– www.stivoz.com/content.php?6792-Syntheta-Spyridonidis-kai-Yfantidou-oi-mikites-Megali-epidosi-Dragomirova-recor-o-Boutsioukis\n– www.stivoz.com/forum/showthread.php?17883 (αποτελέσματα) \n-> Συμμετοχές 2018\n-> Νικητές προηγ.ετών \nΠρόγραμμα Α/Γ  \n(παράλληλα θα γίνουν και τα αγωνίσματα Ε/Ν & Π/Κ) \nΑ΄ ΗΜΕΡΑ – ΣΑΒΒΑΤΟ 7 / 7 / 2018 \n08:45 – 100μ. με εμπόδια Επτάθλου Γυναικών (Γ1)\n09:15 – 100μ. Δεκάθλου Ανδρών (Α1)\n09:25 – Ύψος Επτάθλου Γυναικών (Γ2)\n09:55 – Μήκος Δεκάθλου Ανδρών (Α2)\n11:00 – Σφαιροβολία Δεκάθλου Ανδρών (Α3) \n17:00 – Ύψος Δεκάθλου Ανδρών (Α4)\n17:35 – Σφαιροβολία Επτάθλου Γυναικών (Γ3)\n19:05 – 200μ. Επτάθλου Γυναικών (Γ4)\n19:35 – 400μ. Δεκάθλου Ανδρών (Α5) \nΒ΄ ΗΜΕΡΑ – ΚΥΡΙΑΚΗ 8 / 7 / 2018 \n08:30 – 110μ. με εμπόδια Δεκάθλου Ανδρών (Α6)\n09:30 – Δισκοβολία Δεκάθλου Ανδρών (Α7)\n10:05 – Μήκος Επτάθλου Γυναικών (Γ5)\n11:15 – Επί Κοντώ Δεκάθλου Ανδρών (Α8)\n11:20 – Ακοντισμός Επτάθλου Γυναικών (Γ6) \n17:30 – Ακοντισμός Δεκάθλου Ανδρών (Α9)\n19:00 – 800μ. Επτάθλου Γυναικών (Γ7)\n19:10 – 1.500μ. Δεκάθλου Ανδρών (Α10) \nΣΥΝΟΛΙΚΟ ΠΡΟΓΡΑΜΜΑ: \nΑ’ Ημέρα\, Σάββατο 7 Ιουλίου 2018 \n08:30	100μ. με Εμπόδια	Ν	1	Σειρές\n08:45	100μ. με Εμπόδια	Γ 	1	Σειρές\n09:10	Άλμα σε Ύψος	Ν	2	Στρώμα 1\n09:15	100μ.	Α 	1	Σειρές\n09:25	Άλμα σε Ύψος	Γ 	2	Στρώμα 2\n09:35	100μ.	Ε	1	Σειρές\n09:55	Άλμα σε Μήκος	Α 	2	Σκάμμα 1\n10:15	Άλμα σε Μήκος	Ε	2	Σκάμμα 2\n10:20	100μ.	Π	1	Σειρές\n11:00	Σφαιροβολία	Α 	3	Βαλβίδα 1\n11:00	Άλμα σε Μήκος	Π	2	Σκάμμα 1\n11:00	Άλμα σε Μήκος	Π	2	Σκάμμα 2\n11:10	100μ. με Εμπόδια	Κ	1	Σειρές\n11:20	Σφαιροβολία	Ε	3	Βαλβίδα 2\n11:55	Άλμα σε Ύψος	Κ	2	Στρώμα 1\n11:55	Άλμα σε Ύψος	Κ	2	Στρώμα 2\n12:20	Σφαιροβολία	Π	3	Βαλβίδα \n17:00	Άλμα σε Ύψος	Α 	4	Στρώμα 1\n17:05	Άλμα σε Ύψος	Ε	4	Στρώμα 2\n17:30	Σφαιροβολία	Ν	3	Βαλβίδα 2\n17:35	Σφαιροβολία	Γ	3	Βαλβίδα 1\n18:45	Σφαιροβολία	Κ	3	Βαλβίδες 1 & 2\n19:00	Άλμα σε Ύψος	Π	4	Στρώματα 1 & 2\n19:05	200μ.	Γ 	4	Σειρές\n19:20	200μ.	Ν	4	Σειρές\n19:35	400μ.	Α 	5	Σειρές\n19:55	400μ.	Ε	5	Σειρές\n20:15	200μ.	Κ	4	Σειρές\n21:00	400μ.	Π	5	Σειρές \nΒ’ Ημέρα\, Κυριακή 8 Ιουλίου 2018 \n08:30	110μ. με Εμπόδια	Α  6	Σειρές\n08:50	110μ. με Εμπόδια	Ε	6	Σειρές\n09:00	Άλμα σε Μήκος	Κ	1	Σκάμματα 1 & 2\n09:30	Δισκοβολία	Α  & Ε	7	Βαλβίδα 1\n10:05	Άλμα σε Μήκος	Γ 	5	Σκάμμα 1\n10:05	Άλμα σε Μήκος	Ν	5	Σκάμμα 2\n10:10	Ακοντισμός	Κ	6	Διάδρομος 1\n10:40	110μ. με Εμπόδια	Π	6	Σειρές\n11:15	Άλμα Επί Κοντώ	Α 	8	Στρώμα 1\n11:15	Άλμα Επί Κοντώ	Ε	8	Στρώμα 2\n11:20	Ακοντισμός	Ν	6	Διάδρομος 1\n11:20	Ακοντισμός	Γ 	6	Διάδρομος 2\n11:20	Δισκοβολία	Π	7	Βαλβίδα 1\n12:45	Άλμα Επί Κοντώ	Π	8	Στρώματα 1 & 2 \n17:30	Ακοντισμός	Α 	9	Διάδρομος 1\n17:30	Ακοντισμός	Ε	9	Διάδρομος 2\n18:30	Ακοντισμός	Π	9	Διάδρομος 1\n18:30	800μ.	Κ	7	Σειρές\n18:50	800μ.	Ν	7	Σειρές\n19:00	800μ.	Γ 	7	Σειρές\n19:10	1.500μ.	Α 	10	Σειρές\n19:20	1.500μ.	Ε	10	Σειρές\n19:40	1.500μ.	Π	10	Σειρές \nΟι δηλώσεις συμμετοχής πρέπει να σταλούν με email μέχρι τη Δευτέρα 2 Ιουλίου 2018 και ώρα 14:00 στο Σ.Ε.Γ.Α.Σ.\nστην ηλεκτρονική διεύθυνση entries@segas.gr καθώς και στις κατά τόπου Ε.Α.Σ. – Τ.Ε. Σ.ΕΓ.Α.Σ. \nΟΡΙΑ πρόκρισης σε Πανελ.Πρ. Α/Γ & πριμοδότησης – όρια βαθμολόγησης\n10αθλο/7αθλο : 4900β – 4850β. / 3600β – 3450β.
URL:https://www.stivoz.gr/event/panellinio-ce-2018/
CATEGORIES:Ημερολόγιο αγώνων
END:VEVENT
END:VCALENDAR