BEGIN:VCALENDAR
VERSION:2.0
PRODID:-//StivoZ.gr - ECPv5.16.4//NONSGML v1.0//EN
CALSCALE:GREGORIAN
METHOD:PUBLISH
X-WR-CALNAME:StivoZ.gr
X-ORIGINAL-URL:https://www.stivoz.gr
X-WR-CALDESC:StivoZ.gr - Εκδηλώσεις
BEGIN:VTIMEZONE
TZID:Europe/Athens
BEGIN:DAYLIGHT
TZOFFSETFROM:+0200
TZOFFSETTO:+0300
TZNAME:EEST
DTSTART:20110327T010000
END:DAYLIGHT
BEGIN:STANDARD
TZOFFSETFROM:+0300
TZOFFSETTO:+0200
TZNAME:EET
DTSTART:20111030T010000
END:STANDARD
END:VTIMEZONE
BEGIN:VEVENT
DTSTART;VALUE=DATE:20110604
DTEND;VALUE=DATE:20110606
DTSTAMP:20260422T035111
CREATED:20110113T155226Z
LAST-MODIFIED:20190802T125500Z
UID:28575-1307178000-1307307600@www.stivoz.gr
SUMMARY:Πανελλήνιο συνθέτων Α/Γ (Θεσ/νίκη)
DESCRIPTION:Α΄ ΗΜΕΡΑ – ΣΑΒΒΑΤΟ 4 ΙΟΥΝΙΟΥ 2011   \n9:30 100μ.εμπόδια Επτάθλου Γυναικών – Νέων (Γ) \n9:50 100μ. Δεκάθλου Ανδρών – Νέων (Α)\n10:30 Ύψος Επτάθλου Γυναικών- Νέων (Γ) 2 στρώματα\n10:50 Μήκος Δεκάθλου Ανδρών-Νέων (Α) (Α+Β Γκρουπ) 2 σκάμματα\n12:30 Σφαιροβολία Δεκάθλου Ανδρών -Νέων (Α) 2 βαλβίδες \n17:30 Ύψος Δεκάθλου Ανδρών-Νέων (Α) (Α+Β Γκρουπ) 2 στρώματα\n17:45 Σφαιροβολία Επτάθλου Γυναικών -Νέων (Γ)\n19:15 200μ. Επτάθλου Γυναικών –Νέων (Γ)  \n19:45 400μ. Δεκάθλου Ανδρών -Νέων (Α) \nΒ΄ ΗΜΕΡΑ – ΚΥΡΙΑΚΗ 5 ΙΟΥΝΙΟΥ 2011  \n10:00 110μ.εμπόδια Δεκάθλου Ανδρών-Νέων (Α)\n10.00 Μήκος Επτάθλου Γυναικών-Νέων (Γ)\n10:45 Δισκοβολία Δεκάθλου Ανδρών-Νέων (Α)( Α+Β Γκρουπ) 2 βαλβίδες\n12:15 Επί Κοντώ Δεκάθλου Ανδρών- Νέων (Α) (Α+Β Γκρουπ) 2 στρώματα \n17.00 Ακοντισμός Επτάθλου Γυναικών-Νέων (Γ) \n18.15 Ακοντισμός Δεκάθλου Ανδρών-Νέων (Α) (Α+Β Γκρουπ)\n19.15 800μ. Επτάθλου Γυναικών-Νέων (Γ)  \n20.00 1.500μ. Δεκάθλου Ανδρών-Νέων (Α)
URL:https://www.stivoz.gr/event/panellinio-ce-2011/
CATEGORIES:Ημερολόγιο αγώνων
END:VEVENT
END:VCALENDAR