BEGIN:VCALENDAR
VERSION:2.0
PRODID:-//StivoZ.gr - ECPv5.16.4//NONSGML v1.0//EN
CALSCALE:GREGORIAN
METHOD:PUBLISH
X-WR-CALNAME:StivoZ.gr
X-ORIGINAL-URL:https://www.stivoz.gr
X-WR-CALDESC:StivoZ.gr - Εκδηλώσεις
BEGIN:VTIMEZONE
TZID:Europe/Athens
BEGIN:DAYLIGHT
TZOFFSETFROM:+0200
TZOFFSETTO:+0300
TZNAME:EEST
DTSTART:20210328T010000
END:DAYLIGHT
BEGIN:STANDARD
TZOFFSETFROM:+0300
TZOFFSETTO:+0200
TZNAME:EET
DTSTART:20211031T010000
END:STANDARD
END:VTIMEZONE
BEGIN:VEVENT
DTSTART;VALUE=DATE:20210605
DTEND;VALUE=DATE:20210607
DTSTAMP:20260422T035112
CREATED:20210527T210115Z
LAST-MODIFIED:20220622T084028Z
UID:77801-1622851200-1623023999@www.stivoz.gr
SUMMARY:Πανελλήνιο Πρωτάθλημα Α/Γ (Πάτρα)
DESCRIPTION:Σχετικά θέματα:\n– www.stivoz.gr/panellinio-2021/ (αποτελέσματα)\n– www.stivoz.gr/me-fonto-tis-megales-diorganoseis-to-panellinio-protathlima-stin-patra/\n– www.stivoz.gr/patra-kalo-xekinima-sta-prokrimatika/\n– www.stivoz.gr/patra-rekor-agonon-o-zotos-11i-niki-seri-niki-i-anagnostopoulou/\n– www.stivoz.gr/patra-psila-i-triada-epi-konto-kai-i-gousin-orio-i-rapti/\n– www.stivoz.gr/patra-oraies-koyrses-tin-a-imera-oria-detsikas-boitsios-petroulakis/\n– www.stivoz.gr/patra-rekor-k20-i-emmanoyilidoy-oria-o-kariofyllis/\n– www.stivoz.gr/patra-megala-almata-o-tentogloy-oria-antonakopoulos-rizos\n– www.stivoz.gr/patra-dynati-sfyrovolia-paragkonismenes-ripseis/\n– www.stivoz.gr/patra-double-spanoudaki-oria-anagnostou-paspaliari-protia-alex-makedon-glyfada/ \n-> Συμμετοχές\n-> λίστα προκρινόμενων\n-> Προκήρυξη\n-> Νικητές πανελ.πρωταθλημάτων\n-> Ρεκόρ αγώνων \n-> Οδηγίες εφαρμογής υγειονομικού πρωτοκόλλου \nΝέο Πρόγραμμα \nΖωντανή μετάδοση από την ΕΡΤ3 το Σάββατο 7:15 -9μμ και την Κυριακή 7 -9μμ.\nΤο πρωινό πρόγραμμα θα μεταδοθεί σε livestream από το κανάλι YouTube του ΣΕΓΑΣ. \nΣΑΒΒΑΤΟ 5 ΙΟΥΝΙΟΥ 2021 \n09:00 ΣΦΥΡΟΒΟΛΙΑ Α Προκριματικός Προπ. Λαδόπουλου (δεν θα γίνει)\n09:00 ΔΙΣΚΟΒΟΛΙΑ Γ Προκριματικός – Όριο: 41\,00μ.\n09:15 ΑΛΜΑ ΤΡΙΠΛΟΥΝ Α Προκριματικός 2 group – Όριο: 15\,00μ.\n09:15 100μ. με Εμπόδια Γ Προκριματικές Σειρές\n09:35 110μ. με Εμπόδια Α Προκριματικές Σειρές\n10:00 ΑΛΜΑ ΕΠΙ ΚΟΝΤΩ Γ * Προκριματικός – Όριο: 3\,70μ.\n10:00 ΑΛΜΑ ΣΕ ΥΨΟΣ Γ Προκριματικός 2 group – Όριο: 1\,70μ.\n10:00 400μ. Γ Προκριματικές Σειρές\n10:25 400μ. Α Προκριματικές Σειρές\n10:45 ΑΛΜΑ ΤΡΙΠΛΟΥΝ Γ Προκριματικός 2 group – Όριο: 12\,20μ.\n11:00 ΣΦΑΙΡΟΒΟΛΙΑ Α Προκριματικός – Όριο: 15\,90μ.\n11:00 ΑΚΟΝΤΙΣΜΟΣ Γ Προκριματικός (δεν θα γίνει)\n11:10 100μ. Γ Προκριματικές Σειρές\n11:35 100μ. Α Προκριματικές Σειρές \n16:45 ΣΦΥΡΟΒΟΛΙΑ Α ΤΕΛΙΚΟΣ  Προπ. Λαδόπουλου\n18:00 ΔΙΣΚΟΒΟΛΙΑ Γ ΤΕΛΙΚΟΣ\n18:05 ΑΛΜΑ ΤΡΙΠΛΟΥΝ Α ΤΕΛΙΚΟΣ\n18:30 ΑΛΜΑ ΕΠΙ ΚΟΝΤΩ Γ * ΤΕΛΙΚΟΣ\n18:40 ΣΦΑΙΡΟΒΟΛΙΑ Α ΤΕΛΙΚΟΣ\n18:45 100μ. με Εμπόδια Γ ΤΕΛΙΚΟΣ\n18:55 ΑΛΜΑ ΣΕ ΥΨΟΣ Γ ΤΕΛΙΚΟΣ\n19:00 110μ. με Εμπόδια Α ΤΕΛΙΚΟΣ\n19:15 100μ. Γ ΤΕΛΙΚΗ ΣΕΙΡΑ 1\n19:21 100μ. Γ ΤΕΛΙΚΗ ΣΕΙΡΑ 2\n19:30 100μ. Α ΤΕΛΙΚΗ ΣΕΙΡΑ 1\n19:36 100μ. Α ΤΕΛΙΚΗ ΣΕΙΡΑ 2\n19:40 ΑΚΟΝΤΙΣΜΟΣ Γ ΤΕΛΙΚΟΣ\n19:45 ΑΛΜΑ ΤΡΙΠΛΟΥΝ Γ ΤΕΛΙΚΟΣ\n19:50 400μ. Γ ΤΕΛΙΚΗ ΣΕΙΡΑ 1\n19:56 400μ. Γ ΤΕΛΙΚΗ ΣΕΙΡΑ 2\n20:05 400μ. Α ΤΕΛΙΚΗ ΣΕΙΡΑ 1\n20:11 400μ. Α ΤΕΛΙΚΗ ΣΕΙΡΑ 2\n20:15 1500μ. Γ ΤΕΛΙΚΗ ΣΕΙΡΑ 1\n20:25 1500μ. Γ ΤΕΛΙΚΗ ΣΕΙΡΑ 2\n20:35 1500μ. Α ΤΕΛΙΚΟΣ\n20:45 3.000μ. με Φ.Ε. Γ ΤΕΛΙΚΟΣ\n21:00 3.000μ. με Φ.Ε. Α ΤΕΛΙΚΟΣ\n21:25 4 X 100μ. Γ ΤΕΛΙΚΗ ΣΕΙΡΑ 1\n21:34 4 X 100μ. Γ ΤΕΛΙΚΗ ΣΕΙΡΑ 2\n21:40 4 X 100μ. Α ΤΕΛΙΚΗ ΣΕΙΡΑ 1\n21:49 4 X 100μ. Α ΤΕΛΙΚΗ ΣΕΙΡΑ 2\n21:58 4 X 100μ. Α ΤΕΛΙΚΗ ΣΕΙΡΑ 2 \nKΥΡΙΑΚΗ 6 ΙΟΥΝΙΟΥ 2021  \n09:00 ΣΦΥΡΟΒΟΛΙΑ Γ Προκριματικός Προπ. Λαδόπουλου (δεν θα γίνει)\n09:00 ΔΙΣΚΟΒΟΛΙΑ Α Προκριματικός Α΄group – Όριο: 47\,60μ.\n09:00 ΑΛΜΑ ΕΠΙ ΚΟΝΤΩ Α * Προκριματικός 2 group (δεν θα γίνει)\n09:15 ΑΛΜΑ ΣΕ ΜΗΚΟΣ Γ Προκριματικός 2 group – Όριο: 5\,80μ.\n09:30 400μ. με Εμπόδια Γ Προκριματικές Σειρές\n09:55 400μ. με Εμπόδια Α Προκριματικές Σειρές\n10:00 ΑΛΜΑ ΣΕ ΥΨΟΣ Α Προκριματικός 2 group (δεν θα γίνει)\n10:15 ΔΙΣΚΟΒΟΛΙΑ Α Προκριματικός Β΄group – Όριο: 47\,00μ.\n10:20 800μ. Γ Προκριματικές Σειρές\n10:40 800μ. Α Προκριματικές Σειρές\n10:45 ΑΛΜΑ ΣΕ ΜΗΚΟΣ Α Προκριματικός 2 group – Όριο: 7\,40μ.\n11:00 ΣΦΑΙΡΟΒΟΛΙΑ Γ Προκριματικός (δεν θα γίνει)\n10:30 ΑΚΟΝΤΙΣΜΟΣ Α * Προκριματικός Α’ group – Όριο: 62\,00μ.\n11:05 200μ. Γ Προκριματικές Σειρές\n11:30 200μ. Α Προκριματικές Σειρές\n11:30 ΑΚΟΝΤΙΣΜΟΣ Α * Προκριματικός Β’ group – Όριο: 62\,00μ. \n16:45 ΣΦΥΡΟΒΟΛΙΑ Γ ΤΕΛΙΚΟΣ  Προπ. Λαδόπουλου\n18:05 ΑΛΜΑ ΣΕ ΜΗΚΟΣ Γ ΤΕΛΙΚΟΣ\n18:10 ΔΙΣΚΟΒΟΛΙΑ Α ΤΕΛΙΚΟΣ\n18:30 ΑΛΜΑ ΕΠΙ ΚΟΝΤΩ Α * ΤΕΛΙΚΟΣ\n18:40 ΣΦΑΙΡΟΒΟΛΙΑ Γ ΤΕΛΙΚΟΣ\n18:55 ΑΛΜΑ ΣΕ ΥΨΟΣ Α ΤΕΛΙΚΟΣ\n19:05 400μ. με Εμπόδια Γ ΤΕΛΙΚΟΣ\n19:15 400μ. με Εμπόδια Α ΤΕΛΙΚΟΣ\n19:25 200μ. Γ ΤΕΛΙΚΗ ΣΕΙΡΑ 1\n19:31 200μ. Γ ΤΕΛΙΚΗ ΣΕΙΡΑ 2\n19:40 ΑΛΜΑ ΣΕ ΜΗΚΟΣ Α ΤΕΛΙΚΟΣ\n19:45 200μ. Α ΤΕΛΙΚΗ ΣΕΙΡΑ 1\n19:51 200μ. Α ΤΕΛΙΚΗ ΣΕΙΡΑ 2\n19:55 ΑΚΟΝΤΙΣΜΟΣ Α ΤΕΛΙΚΟΣ\n20:00 800μ. Γ ΤΕΛΙΚΟΣ\n20:10 800μ. Α ΤΕΛΙΚΟΣ\n20:20 5.000μ. Γ ΤΕΛΙΚΟΣ\n20:50 5.000μ. Α ΤΕΛΙΚΟΣ\n21:15 4 X 400μ. Γ ΤΕΛΙΚΗ ΣΕΙΡΑ 1\n21:24 4 X 400μ. Γ ΤΕΛΙΚΗ ΣΕΙΡΑ 2\n21:35 4 X 400μ. Α ΤΕΛΙΚΗ ΣΕΙΡΑ 1\n21:44 4 X 400μ. Α ΤΕΛΙΚΗ ΣΕΙΡΑ 2 \nΟι αθλήτριες και αθλητές που θα αγωνιστούν στο ενιαίο Πανελλήνιο Πρωτάθλημα Ανδρών – Γυναικών και Κ23 στην Πάτρα προκρίνονται κατά βάση από τους Διασυλλογικούς Αγώνες Ανδρών – Γυναικών. \n\nΑπαραίτητη προϋπόθεση\, να προκρίνονται σε κάθε αγώνισμα τουλάχιστον 3 αθλητές – αθλήτριες της κατηγορίας Κ23\nΔυνατότητα σε κάθε σωματείο να δηλώνει «ελεύθερα» στο πανελλήνιο πρωτάθλημα Α/Γ & Κ23 τρεις (3) συνολικά αθλητές – τριες\, έως 27 ετών (ή με όρια συμμετοχής σε 1500μ.\, 5000μ.\, στηπλ) εκ των οποίων ο ένας (1) αθλητής ή αθλήτρια θα ανήκει υποχρεωτικά σε μία από τις δύο κατηγορίες Α-Γ ή Κ23.\n\nΟι Α/Γ και Κ23 μπορούν να μετέχουν σε 3 αγωνίσματα (έως 2 ατομικά)\, οι Κ20 σε 2 αγωνίσματα\, ενώ [για το Νέων] οι Κ18 σε 2 αγωνίσματα (1 ατομικό). \nΟι δηλώσεις συμμετοχής θα πρέπει να αποσταλούν ΜΕΤΑ από την ανακοίνωση της κατάταξης των αθλητών ανά αγώνισμα με email από τη ΠΕΜΠΤΗ 27 ΜΑΪΟΥ μέχρι και την ΔΕΥΤΕΡΑ 31 ΜΑΪΟΥ 2021 και ώρα 14:00 στον Σ.Ε.Γ.Α.Σ. στην ηλεκτρονική διεύθυνση entries@segas.gr καθώς και στις κατά τόπους Ε.Α.Σ. Σ.Ε.Γ.Α.Σ.
URL:https://www.stivoz.gr/event/panellinio-2021/
LOCATION:Παμπελοποννησιακό Εθνικό Στάδιο Πατρών\, Ολύνθου 6\, Πάτρα\, 26335\, Ελλάδα
CATEGORIES:Ημερολόγιο αγώνων
END:VEVENT
END:VCALENDAR