BEGIN:VCALENDAR
VERSION:2.0
PRODID:-//StivoZ.gr - ECPv5.16.4//NONSGML v1.0//EN
CALSCALE:GREGORIAN
METHOD:PUBLISH
X-WR-CALNAME:StivoZ.gr
X-ORIGINAL-URL:https://www.stivoz.gr
X-WR-CALDESC:StivoZ.gr - Εκδηλώσεις
BEGIN:VTIMEZONE
TZID:Europe/Athens
BEGIN:DAYLIGHT
TZOFFSETFROM:+0200
TZOFFSETTO:+0300
TZNAME:EEST
DTSTART:20200329T010000
END:DAYLIGHT
BEGIN:STANDARD
TZOFFSETFROM:+0300
TZOFFSETTO:+0200
TZNAME:EET
DTSTART:20201025T010000
END:STANDARD
END:VTIMEZONE
BEGIN:VEVENT
DTSTART;VALUE=DATE:20200808
DTEND;VALUE=DATE:20200810
DTSTAMP:20260422T035104
CREATED:20200611T140658Z
LAST-MODIFIED:20220622T084052Z
UID:67474-1596844800-1597017599@www.stivoz.gr
SUMMARY:Πανελλήνιο Πρωτάθλημα Α/Γ (Πάτρα)
DESCRIPTION:(Αναβλήθηκε από 13-14/6 για τις 8-9/8) \nΣχετικά θέματα:\n– www.stivoz.gr/i-ora-toy-stivoy-stin-patra-stis-8-11-8/\n– www.stivoz.gr/patra-archi-me-rekor-sto-panellinio/\n– www.stivoz.gr/patra-13i-niki-o-doyvalidis-kales-koyrses-neo-rekor-emmanouilidou/\n– www.stivoz.gr/patra-10i-seri-niki-i-anagnostopoyloy-kales-ripseis-kai-almata/\n– www.stivoz.gr/patra-12-syn-1-nikes-o-filippidis/\n– www.stivoz.gr/patra-double-dimitrakis-spanoydaki-rekor-hatzipourgani/\n– www.stivoz.gr/panellinio-2020/ (αποτελέσματα) \n-> Οδηγίες διεξαγωγής\n-> λίστα προκρινόμενων και επιλαχόντων\n-> Τελικές συμμετοχές\n-> Προκήρυξη\n-> Νικητές πανελ.πρωταθλημάτων\n-> Ρεκόρ αγώνων \nΖωντανή μετάδοση από ΕΡΤ sports από τις 7μμ. \nΝέο Πρόγραμμα: \nΣΑΒΒΑΤΟ 8 ΑΥΓΟΥΣΤΟΥ 2020 \n09:00 400μ. Γ Προκριματικές Σειρές\n09:25 400μ. Α Προκριματικές Σειρές\n10:00 110μ. με Εμπόδια Α Προκριματικές Σειρές\n10:25 100μ. με Εμπόδια Γ Προκριματικές Σειρές\n10:55 100μ. Γ Προκριματικές Σειρές\n11:20 100μ. Α Προκριματικές Σειρές \n17:00 ΣΦΑΙΡΟΒΟΛΙΑ Α ΤΕΛΙΚΟΣ\n17:45 ΑΚΟΝΤΙΣΜΟΣ Γ ΤΕΛΙΚΟΣ\n18:00 ΣΦΥΡΟΒΟΛΙΑ Α ΤΕΛΙΚΟΣ [προπ. Λαδοπουλου]\n18:10 ΑΛΜΑ ΤΡΙΠΛΟΥΝ Α ΤΕΛΙΚΟΣ\n18:15 110μ. με Εμπόδια Α ΤΕΛΙΚΕΣ ΣΕΙΡΕΣ\n18:40 100μ. με Εμπόδια Γ ΤΕΛΙΚΕΣ ΣΕΙΡΕΣ\n18:55 ΑΛΜΑ ΕΠΙ ΚΟΝΤΩ Γ ΤΕΛΙΚΟΣ\n19:05 100μ. Α ΤΕΛΙΚΕΣ ΣΕΙΡΕΣ\n19:25 100μ. Γ ΤΕΛΙΚΕΣ ΣΕΙΡΕΣ\n19:35 ΑΛΜΑ ΣΕ ΥΨΟΣ Γ ΤΕΛΙΚΟΣ\n19:45 400μ. Γ ΤΕΛΙΚΕΣ ΣΕΙΡΕΣ\n19:55 ΑΛΜΑ ΤΡΙΠΛΟΥΝ Γ ΤΕΛΙΚΟΣ\n20:05 400μ. Α ΤΕΛΙΚΕΣ ΣΕΙΡΕΣ\n20:15 ΔΙΣΚΟΒΟΛΙΑ Γ ΤΕΛΙΚΟΣ\n20:25 1500μ. Γ ΤΕΛΙΚΟΣ\n20:35 1500μ. Α ΤΕΛΙΚΟΣ\n20:45 3.000μ. με Φ.Ε. Γ ΤΕΛΙΚΟΣ\n21:10 3.000μ. με Φ.Ε. Α ΤΕΛΙΚΟΣ\n21:25 4 X 100μ. Γ ΤΕΛΙΚΕΣ ΣΕΙΡΕΣ\n22:05 4 X 100μ. Α ΤΕΛΙΚΕΣ ΣΕΙΡΕΣ \nΚΥΡΙΑΚΗ 9 ΑΥΓΟΥΣΤΟΥ 2020 \n07:30 20χλμ. Βάδην Α ΤΕΛΙΚΟΣ [εκτός Σταδίου]\n07:35 20χλμ. Βάδην Γ ΤΕΛΙΚΟΣ [εκτός Σταδίου]\n09:30 400μ. με Εμπόδια Γ Προκριματικές Σειρές\n10:05 400μ. με Εμπόδια Α Προκριματικές Σειρές\n10:40 200μ. Γ Προκριματικές Σειρές\n11:10 200μ. Α Προκριματικές Σειρές \n17:00 ΣΦΑΙΡΟΒΟΛΙΑ Γ ΤΕΛΙΚΟΣ\n17:45 ΑΚΟΝΤΙΣΜΟΣ Α ΤΕΛΙΚΟΣ\n18:00 ΣΦΥΡΟΒΟΛΙΑ Γ ΤΕΛΙΚΟΣ [προπ. Λαδοπουλου]\n18:10 ΑΛΜΑ ΣΕ ΜΗΚΟΣ Γ ΤΕΛΙΚΟΣ\n18:15 400μ. με Εμπόδια Γ ΤΕΛΙΚΕΣ ΣΕΙΡΕΣ\n18:35 400μ. με Εμπόδια Α ΤΕΛΙΚΕΣ ΣΕΙΡΕΣ\n18:55 ΑΛΜΑ ΕΠΙ ΚΟΝΤΩ Α ΤΕΛΙΚΟΣ\n19:00 200μ. Γ ΤΕΛΙΚΕΣ ΣΕΙΡΕΣ\n19:20 200μ. Α ΤΕΛΙΚΕΣ ΣΕΙΡΕΣ\n19:35 ΑΛΜΑ ΣΕ ΥΨΟΣ Α ΤΕΛΙΚΟΣ\n19:40 800μ. Γ ΤΕΛΙΚΟΣ\n19:50 800μ. Α ΤΕΛΙΚΟΣ\n19:55 ΑΛΜΑ ΣΕ ΜΗΚΟΣ Α ΤΕΛΙΚΟΣ\n20:00 5.000μ. Γ ΤΕΛΙΚΟΣ\n20:15 ΔΙΣΚΟΒΟΛΙΑ Α ΤΕΛΙΚΟΣ\n20:25 5.000μ. Α ΤΕΛΙΚΟΣ\n20:55 4 X 400μ. Γ ΤΕΛΙΚΕΣ ΣΕΙΡΕΣ\n21:35 4 X 400μ. Α ΤΕΛΙΚΕΣ ΣΕΙΡΕΣ \nΤο πρωτάθλημα των ανδρών και γυναικών είναι αφιερωμένο  στη μνήμη  του «ΗΛΙΑ ΜΙΣΑΗΛΙΔΗ» ενώ το Κ23 στη μνήμη του «ΚΩΣΤΑ ΠΑΠΑΝΑΣΤΑΣΙΟΥ» \nΟι αθλήτριες και αθλητές που θα αγωνιστούν στο ενιαίο Πανελλήνιο Πρωτάθλημα Ανδρών – Γυναικών και Κ23 στην Πάτρα προκρίνονται από τους Διασυλλογικούς Αγώνες Ανδρών – Γυναικών (16 αθλητές – αθλήτριες / ομάδες\, για κάθε αγώνισμα\, που διεξάγεται εξ ολοκλήρου σε ατομικούς διαδρόμους και 12 αθλητές στα υπόλοιπα αγωνίσματα (εκτός από τα αγωνίσματα των 5.000μ. και των 20χλμ. Βάδην) \n\nΑπαραίτητη προϋπόθεση\, να προκρίνονται σε κάθε αγώνισμα τουλάχιστον 3 αθλητές – αθλήτριες της κατηγορίας Κ23\n\nΟι Α/Γ και Κ23 μπορούν να μετέχουν σε 3 αγωνίσματα (έως 2 ατομικά)\, οι Κ20 σε 2 αγωνίσματα\, ενώ [για το Νέων] οι Κ18 σε 2 αγωνίσματα (1 ατομικό). \nΟι δηλώσεις συμμετοχής θα πρέπει να αποσταλούν με email από το ΣΑΒΒΑΤΟ 25 ΙΟΥΛΙΟΥ μέχρι και την ΔΕΥΤΕΡΑ 3 ΑΥΓΟΥΣΤΟΥ 2020 και ώρα 14:00 στον Σ.Ε.Γ.Α.Σ. στην ηλεκτρονική διεύθυνση entries@segas.gr καθώς και στις κατά τόπου Ε.Α.Σ. Σ.Ε.Γ.Α.Σ. \nΗ ανακοίνωση της κατάταξης των αθλητών ανά αγώνισμα προβλέπεται να έχει ολοκληρωθεί μέχρι την Παρασκευή 24 Ιουλίου 2020
URL:https://www.stivoz.gr/event/panellinio-2020/
CATEGORIES:Ημερολόγιο αγώνων
END:VEVENT
END:VCALENDAR