BEGIN:VCALENDAR
VERSION:2.0
PRODID:-//StivoZ.gr - ECPv5.16.4//NONSGML v1.0//EN
CALSCALE:GREGORIAN
METHOD:PUBLISH
X-WR-CALNAME:StivoZ.gr
X-ORIGINAL-URL:https://www.stivoz.gr
X-WR-CALDESC:StivoZ.gr - Εκδηλώσεις
BEGIN:VTIMEZONE
TZID:Europe/Athens
BEGIN:DAYLIGHT
TZOFFSETFROM:+0200
TZOFFSETTO:+0300
TZNAME:EEST
DTSTART:20180325T010000
END:DAYLIGHT
BEGIN:STANDARD
TZOFFSETFROM:+0300
TZOFFSETTO:+0200
TZNAME:EET
DTSTART:20181028T010000
END:STANDARD
END:VTIMEZONE
BEGIN:VEVENT
DTSTART;VALUE=DATE:20180714
DTEND;VALUE=DATE:20180716
DTSTAMP:20260424T141435
CREATED:20171208T094520Z
LAST-MODIFIED:20220622T083426Z
UID:29268-1531526400-1531699199@www.stivoz.gr
SUMMARY:Πανελλήνιο πρωτ. Α/Γ (Πάτρα)
DESCRIPTION:Σχετικά θέματα:\n– www.stivoz.com/content.php?6802-Patra-Panellinio-protathlima-A-G\n– www.stivoz.com/content.php?6810-Patra-Dynato-xekinima-Papachristou-kai-Nyfantopoulos\n– www.stivoz.com/content.php?6812-Patra-rekor-neanidwn-i-Karagianni-kala-almata-i-Kyriakopoulou-Synexeia-se-polla-seri-nikwn\n– www.stivoz.com/content.php?6813-Patra-Me-apousies-kai-akyrwseis-ta-prokrimatika-tis-B-imeras\n– www.stivoz.com/content.php?6815-Patra-Ksexwrisan-Tentoglou-Belimpasaki-Prwtathlites-Olympiakos-kai-GS-Glyfadas\n– www.stivoz.com/forum/showthread.php?17926 (αποτελέσματα) \n-> Όρια πρόκρισης/βαθμολόγησης\n-> Όρια/επιτεύξεις Ευρωπαικού Α/Γ \n-> Ιστορικό\n-> Νικητές διοργανώσεων\n-> Ρεκόρ αγώνων \n-> οδηγίες για αίθουσα κλήσης\n-> γκρουπ δίσκος & σφαίρα Α\nΔεν θα γίνει προκριματικός σε Υψος και Επί Κοντώ Α/Γ καθώς και Ακοντισμό Γυναικών \nΠρόγραμμα \n(ζωντανά από την ΕΡΤ2\, στις 7 – 9μμ και τις δύο ημέρες) \nΣΑΒΒΑΤΟ 14 ΙΟΥΛΙΟΥ \n09:00 ΣΦΥΡΟΒΟΛΙΑ Α Προκριματικός Προπ. Λαδόπουλου – Όριο: 57\,00μ.\n09:00 ΔΙΣΚΟΒΟΛΙΑ Γ Προκριματικός Όριο: 41\,00μ.\n09:00 ΑΛΜΑ ΕΠΙ ΚΟΝΤΩ Γ Προκριματικός Όριο: 3\,70μ. / δεν θα γίνει\n09:15 ΑΛΜΑ ΤΡΙΠΛΟΥΝ Α Προκριματικός 2 group 2 σκάμματα – Όριο: 15\,00μ.\n09:15 100μ. με Εμπόδια Γ Προκριματικές Σειρές\n09:35 110μ. με Εμπόδια Α Προκριματικές Σειρές\n10:00 ΑΛΜΑ ΣΕ ΥΨΟΣ Γ Προκριματικός 2 group Όριο: 1\,70μ. / δεν θα γίνει\n10:00 400μ. Γ Προκριματικές Σειρές\n10:25 400μ. Α Προκριματικές Σειρές\n10:45 ΑΛΜΑ ΤΡΙΠΛΟΥΝ Γ Προκριματικός 2 group 2 σκάμματα – Όριο: 12\,20μ.\n11:00 ΣΦΑΙΡΟΒΟΛΙΑ Α Προκριματικός Όριο: 15\,90μ.\n11:00 ΑΚΟΝΤΙΣΜΟΣ Γ Προκριματικός Όριο: 44\,00μ. / δεν θα γίνει\n11:10 100μ. Γ Προκριματικές Σειρές\n11:35 100μ. Α Προκριματικές Σειρές \n16:45 ΣΦΥΡΟΒΟΛΙΑ Α ΤΕΛΙΚΟΣ \n18:05 ΑΛΜΑ ΤΡΙΠΛΟΥΝ Α ΤΕΛΙΚΟΣ\n18:10 ΔΙΣΚΟΒΟΛΙΑ Γ ΤΕΛΙΚΟΣ\n18:30 ΑΛΜΑ ΕΠΙ ΚΟΝΤΩ Γ ΤΕΛΙΚΟΣ\n18:45 100μ. με Εμπόδια Γ ΤΕΛΙΚΟΣ\n18:55 ΑΛΜΑ ΣΕ ΥΨΟΣ Γ ΤΕΛΙΚΟΣ\n19:00 110μ. με Εμπόδια Α ΤΕΛΙΚΟΣ\n19:15 100μ. Γ ΤΕΛΙΚΗ ΣΕΙΡΑ 1\n19:21 100μ. Γ ΤΕΛΙΚΗ ΣΕΙΡΑ 2\n19:30 100μ. Α ΤΕΛΙΚΗ ΣΕΙΡΑ 1\n19:35 ΣΦΑΙΡΟΒΟΛΙΑ Α ΤΕΛΙΚΟΣ\n19:36 100μ. Α ΤΕΛΙΚΗ ΣΕΙΡΑ 2\n19:40 ΑΛΜΑ ΤΡΙΠΛΟΥΝ Γ ΤΕΛΙΚΟΣ\n19:50 400μ. Γ ΤΕΛΙΚΟΣ\n19:55 ΑΚΟΝΤΙΣΜΟΣ Γ ΤΕΛΙΚΟΣ\n20:00 400μ. Α ΤΕΛΙΚΟΣ\n20:10 1500μ. Γ ΤΕΛΙΚΗ ΣΕΙΡΑ 1\n20:20 1500μ. Γ ΤΕΛΙΚΗ ΣΕΙΡΑ 2\n20:30 1500μ. Α ΤΕΛΙΚΗ ΣΕΙΡΑ 1\n20:40 1500μ. Α ΤΕΛΙΚΗ ΣΕΙΡΑ 2\n20:50 3.000μ. με Φ.Ε. Γ ΤΕΛΙΚΟΣ\n21:10 3.000μ. με Φ.Ε. Α ΤΕΛΙΚΟΣ\n21:35 4 X 100μ. Γ ΤΕΛΙΚΗ ΣΕΙΡΑ 1\n21:44 4 X 100μ. Γ ΤΕΛΙΚΗ ΣΕΙΡΑ 2\n21:50 4 X 100μ. Α ΤΕΛΙΚΗ ΣΕΙΡΑ 1\n21:59 4 X 100μ. Α ΤΕΛΙΚΗ ΣΕΙΡΑ 2\n22:08 4 X 100μ. Α ΤΕΛΙΚΗ ΣΕΙΡΑ 3 \nΚΥΡΙΑΚΗ 15 ΙΟΥΛΙΟΥ \n09:00 ΣΦΥΡΟΒΟΛΙΑ Γ Προκριματικός Προπ. Λαδόπουλου – Όριο: 48\,00μ.\n09:00 ΔΙΣΚΟΒΟΛΙΑ Α Προκριματικός Α΄group Όριο: 47\,00μ.\n09:00 ΑΛΜΑ ΕΠΙ ΚΟΝΤΩ Α Προκριματικός 2 group Όριο: 4\,80μ. / δεν θα γίνει\n09:15 ΑΛΜΑ ΣΕ ΜΗΚΟΣ Γ Προκριματικός 2 group 2 σκάμματα – Όριο: 5\,80μ.\n09:30 400μ. με Εμπόδια Γ Προκριματικές Σειρές\n09:55 400μ. με Εμπόδια Α Προκριματικές Σειρές\n10:00 ΑΛΜΑ ΣΕ ΥΨΟΣ Α Προκριματικός 2 group Όριο: 2\,00μ. / δεν θα γίνει\n10:15 ΔΙΣΚΟΒΟΛΙΑ Α Προκριματικός Β΄group Όριο: 47\,00μ.\n10:20 800μ. Γ Προκριματικές Σειρές\n10:40 800μ. Α Προκριματικές Σειρές\n10:45 ΑΛΜΑ ΣΕ ΜΗΚΟΣ Α Προκριματικός 2 group 2 σκάμματα – Όριο: 7\,40μ.\n11:00 ΣΦΑΙΡΟΒΟΛΙΑ Γ Προκριματικός 2 group Όριο: 12\,50μ.\n11:05 200μ. Γ Προκριματικές Σειρές\n11:15 ΑΚΟΝΤΙΣΜΟΣ Α Προκριματικός Όριο: 62\,00μ.\n11:30 200μ. Α Προκριματικές Σειρές \n16:45 ΣΦΥΡΟΒΟΛΙΑ Γ ΤΕΛΙΚΟΣ \n18:05 ΑΛΜΑ ΣΕ ΜΗΚΟΣ Γ ΤΕΛΙΚΟΣ\n18:10 ΔΙΣΚΟΒΟΛΙΑ Α ΤΕΛΙΚΟΣ\n18:30 ΑΛΜΑ ΕΠΙ ΚΟΝΤΩ Α ΤΕΛΙΚΟΣ\n18:55 ΑΛΜΑ ΣΕ ΥΨΟΣ Γ ΤΕΛΙΚΟΣ\n19:05 400μ. με Εμπόδια Γ ΤΕΛΙΚΟΣ\n19:15 400μ. με Εμπόδια Α ΤΕΛΙΚΟΣ\n19:25 200μ. Γ ΤΕΛΙΚΗ ΣΕΙΡΑ 1\n19:31 200μ. Γ ΤΕΛΙΚΗ ΣΕΙΡΑ 2\n19:35 ΣΦΑΙΡΟΒΟΛΙΑ Γ ΤΕΛΙΚΟΣ\n19:40 ΑΛΜΑ ΣΕ ΜΗΚΟΣ Α ΤΕΛΙΚΟΣ\n19:45 200μ. Α ΤΕΛΙΚΗ ΣΕΙΡΑ 1\n19:51 200μ. Α ΤΕΛΙΚΗ ΣΕΙΡΑ 2\n19:55 ΑΚΟΝΤΙΣΜΟΣ Α ΤΕΛΙΚΟΣ\n20:00 800μ. Γ ΤΕΛΙΚΟΣ\n20:10 800μ. Α ΤΕΛΙΚΟΣ\n20:20 5.000μ. Γ ΤΕΛΙΚΟΣ\n20:50 5.000μ. Α ΤΕΛΙΚΟΣ\n21:15 4 X 400μ. Γ ΤΕΛΙΚΗ ΣΕΙΡΑ 1\n21:24 4 X 400μ. Γ ΤΕΛΙΚΗ ΣΕΙΡΑ 2\n21:35 4 X 400μ. Α ΤΕΛΙΚΗ ΣΕΙΡΑ 1\n21:44 4 X 400μ. Α ΤΕΛΙΚΗ ΣΕΙΡΑ 2 \nΠαρατηρήσεις:\nΤα όρια πρέπει να έχουν επιτευχθεί από 1/3/2018 μέχρι την Κυριακή 8/7/2018\nΣτα 5000μ και στα 3000μ τα όρια συμμετοχής ισχύουν από το 2017 και δεν επιτρέπεται συμμετοχή χωρίς όριο.\nΣυμμετοχές χωρίς όριο στα υπόλοιπα αγωνίσματα θα επιτρέπεται μόνο σε αθλητές μέχρι 27 ετών. (Γεν. 1991 και μικρότεροι) \nΣτα αγωνίσματα Πανελ.Πρωταθλήματος\, Α/Γ και Νέοι μπορούν να αγωνιστούν μέχρι 3 στην αγωνιστική περίοδο.\nΔεν μπορούν να λάβουν μέρος όμως στο Πανελλήνιο πρωτάθλημα σε 3 αγωνίσματα που να είναι όλα ατομικά.\nΟι Ε/Ν μπορούν να λάβουν μέρος σε 2 αγωνίσματα. Οι Π/Κ δεν δικαιούνται συμμετοχής. \n(Στις περιπτώσεις συμμετοχής Κυπρίων αθλητών ακολουθείται ίδια διαδικασία πρόκρισης και θα μπορουν να συμμετέχουν έως 2 σε τελικό.) \nΣτο τριπλούν γυναικών οι αθλήτριες θα πρέπει να δηλώσουν βαλβίδα 9μ. ή 11μ. \nΟι δηλώσεις συμμετοχής πρέπει να σταλούν με email μέχρι τη Δευτέρα 9 Ιουλίου 2018 και ώρα 14:00 στο Σ.Ε.Γ.Α.Σ. στην ηλεκτρονική διεύθυνση entries@segas.gr\nκαθώς και στις κατά τόπου Ε.Α.Σ. Σ.ΕΓ.Α.Σ. Μετά την παρέλευση αυτής της προθεσμίας δεν θα γίνεται δεκτή καμία δήλωση συμμετοχής. \nΣημείωση: σε περίπτωση προβλήματος θα πρέπει να επικοινωνήσετε με την κα Φωτεινή Κασίδη\, στο τηλέφωνο 2111877735\nΟι Ε.Α.Σ. Σ.Ε.Γ.Α.Σ. υποχρεούνται μέχρι την Τρίτη 10 Ιουλίου 2018 να έχουν ενημερώσει πρώτα τα σωματεία τους\nκαι στη συνέχεια το Σ.Ε.Γ.Α.Σ. με email στο entries@segas.gr ΜΟΝΟ εάν υπάρχουν οποιεσδήποτε διορθώσεις – συμπληρώσεις στις δηλώσεις των σωματείων. \nΜετά την ολοκλήρωση του ελέγχου των δηλώσεων σε περίπτωση που σε ορισμένα αγωνίσματα δεν υπάρχει η ανάλογη συμμετοχή οι προκριματικοί θα καταργούνται.\nΕπίσης οι ώρες έναρξης των αγωνισμάτων μπορεί να τροποποιηθούν. Σε κάθε περίπτωση όλοι οι ενδιαφερόμενοι θα μπορούν να ενημερώνονται από το site του ΣΕΓΑΣ.
URL:https://www.stivoz.gr/event/panellinio-2018/
CATEGORIES:Ημερολόγιο αγώνων
END:VEVENT
END:VCALENDAR