BEGIN:VCALENDAR
VERSION:2.0
PRODID:-//StivoZ.gr - ECPv5.16.4//NONSGML v1.0//EN
CALSCALE:GREGORIAN
METHOD:PUBLISH
X-WR-CALNAME:StivoZ.gr
X-ORIGINAL-URL:https://www.stivoz.gr
X-WR-CALDESC:StivoZ.gr - Εκδηλώσεις
BEGIN:VTIMEZONE
TZID:Europe/Athens
BEGIN:DAYLIGHT
TZOFFSETFROM:+0200
TZOFFSETTO:+0300
TZNAME:EEST
DTSTART:20130331T010000
END:DAYLIGHT
BEGIN:STANDARD
TZOFFSETFROM:+0300
TZOFFSETTO:+0200
TZNAME:EET
DTSTART:20131027T010000
END:STANDARD
END:VTIMEZONE
BEGIN:VEVENT
DTSTART;VALUE=DATE:20130720
DTEND;VALUE=DATE:20130722
DTSTAMP:20260419T202042
CREATED:20121018T135741Z
LAST-MODIFIED:20220622T083719Z
UID:28728-1374278400-1374451199@www.stivoz.gr
SUMMARY:Πανελλήνιο Πρωτάθλημα Α/Γ (ΟΑΚΑ)
DESCRIPTION:Θα υπάρξει Livestream \n-> συμμετοχές (απο ΣΕΓΑΣ) \n-> καλύτεροι 2013\n-> καλύτεροι όλων των εποχών\n-> νικητές προηγούμενων πρωταθλημάτων \nΣχετικά θέματα:\n– www.stivoz.com/forum/showthread.php?9505\n– www.stivoz.com/forum/showthread.php?9517 (Α’ πρωί)\n– www.stivoz.com/forum/showthread.php?9528 (Α’ απογ – Δουβαλίδης)\n– www.stivoz.com/forum/showthread.php?9530 (Α’ απογ – Μπανιώτης)\n– www.stivoz.com/forum/showthread.php?9526 (Α’ απογ – υπόλοιπα)\n– www.stivoz.com/forum/showthread.php?9532 (Β’ πρωί)\n– www.stivoz.com/forum/showthread.php?9536 (B’ απογ – μήκος ανδρών)\n– www.stivoz.com/forum/showthread.php?9538 (Β’ απόγευμα – πολυνίκες)\n– www.stivoz.com/forum/showthread.php?9534 (B’ απογ – υπόλοιπα)\n– www.stivoz.com/forum/showthread.php?9514 (αποτελέσματα) \nΠρόγραμμα: \nΣΑΒΒΑΤΟ\, 20 ΙΟΥΛΙΟΥ 2013 \n9:00	ΣΦΥΡΟΒΟΛΙΑ	Γ	Προκριματικός	Κ1 – Όριο: 48\,50μ.\n9:00	ΔΙΣΚΟΒΟΛΙΑ	Γ	Προκριματικός	Κεντρικό – Όριο: 43\,00μ.\n9:00	100μ. Δεκάθλου (1)	Α	Σειρές\n9:20	100μ. με Εμπόδια  Επτάθλου (1)	Γ	Σειρές\n9:30	ΑΛΜΑ ΣΕ ΜΗΚΟΣ Δεκάθλου (2)	Α	 	2 σκάμματα\n9:30	ΑΛΜΑ ΕΠΙ ΚΟΝΤΩ	Γ	Προκριματικός 2 group	2 στρώματα – Όριο: 3\,60μ.\n9:30	ΑΛΜΑ ΣΕ ΥΨΟΣ	Α	Προκριματικός 2 group	2 στρώματα – Όριο: 2\,08μ. (δεν θα διεξαχθεί)\n9:30	100μ. με Εμπόδια	Γ	Προκριματικές Σειρές (δεν θα διεξαχθεί)\n9:50	110μ. με Εμπόδια	Α	Προκριματικές Σειρές\n10:20	100μ.	Γ	Προκριματικές Σειρές\n10:30	ΑΛΜΑ ΤΡΙΠΛΟΥΝ	Α	Προκριματικός 2 group	2 σκάμματα – Όριο: 15\,20μ.\n10:30	ΑΛΜΑ ΣΕ ΥΨΟΣ  Επτάθλου (2)	Γ	 	Κ2\n10:45	ΣΦΑΙΡΟΒΟΛΙΑ Δεκάθλου (3)	Α	 	Κ1 (πέταλο Σφύρας)\n10:45	100μ.	Α	Προκριματικές Σειρές\n11:00	ΑΚΟΝΤΙΣΜΟΣ	Α	Προκριματικός	Κεντρικό – Όριο: 62\,00μ.\n11:00	ΣΦΑΙΡΟΒΟΛΙΑ	Α	Προκριματικός A΄& Β΄group	Κ1 – 2 βαλβίδες – Όριο: 16\,00μ.\n11:20	400μ.	Γ	Προκριματικές Σειρές\n11:30	ΑΛΜΑ ΣΕ ΜΗΚΟΣ	Γ	Προκριματικός 2 group	2 σκάμματα – Όριο: 5\,80μ.\n11:45	400μ.	Α	Προκριματικές Σειρές	  \n17:00	ΑΛΜΑ ΣΕ ΥΨΟΣ Δεκάθλου (4)	Α	 	Κ2\n17:30	ΣΦΑΙΡΟΒΟΛΙΑ  Επτάθλου (3)	Γ	 	Κ1\n17:35	ΣΦΥΡΟΒΟΛΙΑ	Γ	ΤΕΛΙΚΟΣ	Κ1\n18:05	ΔΙΣΚΟΒΟΛΙΑ	Γ	ΤΕΛΙΚΟΣ	Kεντρικό\n18:00	ΑΛΜΑ ΤΡΙΠΛΟΥΝ	Α	ΤΕΛΙΚΟΣ\n18:50	100μ. με Εμπόδια	Γ	ΤΕΛΙΚΟΣ\n18:45	ΑΛΜΑ ΕΠΙ ΚΟΝΤΩ	Γ	ΤΕΛΙΚΟΣ\n19:05	110μ. με Εμπόδια	Α	ΤΕΛΙΚΟΣ\n19:00	ΑΛΜΑ ΣΕ ΥΨΟΣ	Α	ΤΕΛΙΚΟΣ\n19:15	100μ. 	Γ	ΤΕΛΙΚΟΣ\n19;25	100μ. 	Α	ΤΕΛΙΚΟΣ\n19:35	200μ. Επτάθλου (4)	Γ	Σειρές\n19:30	ΣΦΑΙΡΟΒΟΛΙΑ	Α	ΤΕΛΙΚΟΣ	Κεντρικό\n19:40	ΑΛΜΑ ΣΕ ΜΗΚΟΣ	Γ	ΤΕΛΙΚΟΣ\n19:50	400μ. 	Γ	ΤΕΛΙΚΟΣ\n19:45	ΑΚΟΝΤΙΣΜΟΣ	Α	ΤΕΛΙΚΟΣ	Κεντρικό\n20:00	400μ. 	Α	ΤΕΛΙΚΟΣ\n20:10	400μ. Δεκάθλου (5)	Α	Σειρές\n20:25	1500μ.	Α	ΤΕΛΙΚΗ ΣΕΙΡΑ 1\n20:35	1500μ.	Α	ΤΕΛΙΚΗ ΣΕΙΡΑ 2\n20:45	1500μ.	Γ	ΤΕΛΙΚΗ ΣΕΙΡΑ 1\n20:55	1500μ.	Γ	ΤΕΛΙΚΗ ΣΕΙΡΑ 2\n21:05	3.000μ. με Φ.Ε.	Γ	ΤΕΛΙΚΟΣ\n21:25	3.000μ. με Φ.Ε. 	Α	ΤΕΛΙΚΟΣ\n21:50	4 X 100μ. 	Γ	ΤΕΛΙΚΕΣ ΣΕΙΡΕΣ\n22:05	4 X 100μ. 	Α	ΤΕΛΙΚΕΣ ΣΕΙΡΕΣ	  \nΚΥΡΙΑΚΗ\, 21 ΙΟΥΛΙΟΥ 2013 \n9:00	ΣΦΥΡΟΒΟΛΙΑ	Α	Προκριματικός	Κ1 – Όριο: 57\,50μ.\n9:00	ΔΙΣΚΟΒΟΛΙΑ	Α	Προκριματικός Α΄group	Κεντρικό – Όριο: 49\,00μ.\n9:00	110μ. με Εμπόδια Δεκάθλου (6)	Α	Σειρές\n9:00	ΑΛΜΑ ΕΠΙ ΚΟΝΤΩ	Α	Προκριματικός 2 group	2 στρώματα – Όριο: 4\,70μ.\n9:30	400μ. με Εμπόδια	Γ	Προκριματικές Σειρές\n9:30	ΑΛΜΑ ΣΕ ΜΗΚΟΣ	Α	Προκριματικός 2 group	2 σκάμματα – Όριο:  7\,30μ.\n9:30	ΑΛΜΑ ΣΕ ΥΨΟΣ	Γ	Προκριματικός 2 group	2 στρώματα – Όριο: 1\,70μ. (δεν θα διεξαχθεί)\n9:45	ΔΙΣΚΟΒΟΛΙΑ Δεκάθλου (7)	Α\n9:55	400μ. με Εμπόδια	Α	Προκριματικές Σειρές\n10:25	800μ.	Γ	Προκριματικές Σειρές\n10:30	ΔΙΣΚΟΒΟΛΙΑ	Α	Προκριματικός B΄group	Κεντρικό – Όριο: 49\,00μ.\n10:30	ΑΛΜΑ ΣΕ ΜΗΚΟΣ Επτάθλου (5)	Γ\n10:45	800μ.	Α	Προκριματικές Σειρές\n11:00	ΣΦΑΙΡΟΒΟΛΙΑ	Γ	Προκριματικός A΄& Β΄group	Κ1 2 βαλβίδες – Όριο: 13\,50μ.\n11:05	200μ.	Γ	Προκριματικές Σειρές\n11:25	200μ.	Α	Προκριματικές Σειρές\n11:30	ΑΛΜΑ ΕΠΙ ΚΟΝΤΩ Δεκάθλου (8)	Α\n11:30	ΑΚΟΝΤΙΣΜΟΣ	Γ	Προκριματικός	Κεντρικό – Όριο: 45\,00μ.\n11:30	ΑΛΜΑ ΤΡΙΠΛΟΥΝ	Γ	Προκριματικός 2 group	2 σκάμματα – Όριο: 12\,70μ. \n17:00	ΣΦΥΡΟΒΟΛΙΑ	Α	ΤΕΛΙΚΟΣ	Κ1\n17:00	ΑΚΟΝΤΙΣΜΟΣ Επτάθλου (6)	Γ	 	Κ1\n17:00	ΑΛΜΑ ΣΕ ΜΗΚΟΣ	Α	ΤΕΛΙΚΟΣ\n17:05	ΔΙΣΚΟΒΟΛΙΑ	Α	ΤΕΛΙΚΟΣ	Κεντρικό\n17:30	ΑΛΜΑ ΕΠΙ ΚΟΝΤΩ	Α	ΤΕΛΙΚΟΣ\n17:45	ΑΚΟΝΤΙΣΜΟΣ Δεκάθλου (9)	Α	 	Κ1\n18:00	ΑΛΜΑ ΣΕ ΥΨΟΣ	Γ	ΤΕΛΙΚΟΣ\n18:05	400μ. με Εμπόδια	Γ	ΤΕΛΙΚΟΣ\n18:15	400μ. με Εμπόδια	Α	ΤΕΛΙΚΟΣ\n18:25	200μ. 	Γ	ΤΕΛΙΚΟΣ\n18:30	ΣΦΑΙΡΟΒΟΛΙΑ	Γ	ΤΕΛΙΚΟΣ	Κεντρικό\n18:35	200μ. 	Α	ΤΕΛΙΚΟΣ\n18:40	ΑΛΜΑ ΤΡΙΠΛΟΥΝ	Γ	ΤΕΛΙΚΟΣ\n18:45	800μ.	Γ	ΤΕΛΙΚΟΣ\n18:50	ΑΚΟΝΤΙΣΜΟΣ	Γ	ΤΕΛΙΚΟΣ	Κεντρικό\n18:55	800μ.	Α	ΤΕΛΙΚΟΣ\n19:05	800μ. Επτάθλου (7)	Γ	ΤΕΛΙΚΟΣ\n19:15	1.500μ. Δεκάθλου (10)	Α	ΤΕΛΙΚΟΣ\n19:25	5.000μ.	Α	ΤΕΛΙΚΟΣ\n19:45	5.000μ. 	Γ	ΤΕΛΙΚΟΣ\n20:15	4 X 400μ. 	Γ	ΤΕΛΙΚΗ ΣΕΙΡΑ 1\n20:24	4 X 400μ. 	Γ	ΤΕΛΙΚΗ ΣΕΙΡΑ 2\n20:30	4 X 400μ. 	Α	ΤΕΛΙΚΗ ΣΕΙΡΑ 1\n20:39	4 X 400μ. 	Α	ΤΕΛΙΚΗ ΣΕΙΡΑ 2	  \nΠαρατήρηση: μετά την ολοκλήρωση του ελέγχου των δηλώσεων οι ώρες έναρξης των αγωνισμάτων μπορεί να τροποποιηθούν και το οριστικό ωρολόγιο πρόγραμμα θα ανακοινωθεί στο site του ΣΕΓΑΣ. \nΟι δηλώσεις συμμετοχής πρέπει να σταλούν με email μέχρι τη Δευτέρα  15  Ιουλίου 2013 και ώρα 14:00 στο Σ.Ε.Γ.Α.Σ. στην ηλεκτρονική διεύθυνση marathon@segas.gr. καθώς και στις κατά τόπου Ε.Α.Σ. – Τ.Ε. Σ.ΕΓ.Α.Σ. Μετά την παρέλευση αυτής της προθεσμίας δε θα γίνεται δεκτή καμία δήλωση συμμετοχής.\nΣημείωση:  Σε περίπτωση προβλήματος θα πρέπει να επικοινωνήσετε με την κα Αγγελική Προκάκη\, Τμηματάρχη Αθλητικού\, στα τηλέφωνα 210-9315886 & 210- 9331113.
URL:https://www.stivoz.gr/event/panellinio-2013/
CATEGORIES:Ημερολόγιο αγώνων
END:VEVENT
END:VCALENDAR