BEGIN:VCALENDAR
VERSION:2.0
PRODID:-//StivoZ.gr - ECPv5.16.4//NONSGML v1.0//EN
CALSCALE:GREGORIAN
METHOD:PUBLISH
X-WR-CALNAME:StivoZ.gr
X-ORIGINAL-URL:https://www.stivoz.gr
X-WR-CALDESC:StivoZ.gr - Εκδηλώσεις
BEGIN:VTIMEZONE
TZID:Europe/Athens
BEGIN:DAYLIGHT
TZOFFSETFROM:+0200
TZOFFSETTO:+0300
TZNAME:EEST
DTSTART:20110327T010000
END:DAYLIGHT
BEGIN:STANDARD
TZOFFSETFROM:+0300
TZOFFSETTO:+0200
TZNAME:EET
DTSTART:20111030T010000
END:STANDARD
END:VTIMEZONE
BEGIN:VEVENT
DTSTART;VALUE=DATE:20110507
DTEND;VALUE=DATE:20110509
DTSTAMP:20260426T064329
CREATED:20110414T232006Z
LAST-MODIFIED:20181208T172859Z
UID:28593-1304758800-1304888400@www.stivoz.gr
SUMMARY:Πανελ.Πρ. συνθέτων Π/Κ (Γιαννιτσά)
DESCRIPTION:Σχετικά θέματα:\n– http://www.stivoz.gr/?p=10305\n– http://www.stivoz.gr/?p=16878 (αποτελέσματα) \nΑ΄ ημέρα (Σάββατο 7/5) \n10.00 100μ εμπόδια Κ επτάθλου\n10.20 100μ Π οκτάθλου\n10.30 Ύψος Κ επτάθλου\n10.50 Μήκος Π οκτάθλου \n18.00 Σφαιροβολία Π οκτάθλου\n19.00 Σφαιροβολία Κ επτάθλου\n19.30 400μ Π οκτάθλου\n20.00 200μ Κ επτάθλου \nΒ΄ ημέρα (Κυριακή (8/5) \n09.30 110μ εμπόδια Π οκτάθλου\n09.30 Μήκος Κ επτάθλου\n10.15 Ύψος Π οκτάθλου\n11.00 Ακοντισμός Κ επτάθλου \n16.30 Ακοντισμός Π οκτάθλου\n17.00 800μ Κ επτάθλου\n18.00 1.000μ Π οκτάθλου
URL:https://www.stivoz.gr/event/panel-pr-syntheton-p-k-giannitsa/
CATEGORIES:Ημερολόγιο αγώνων
END:VEVENT
END:VCALENDAR