BEGIN:VCALENDAR
VERSION:2.0
PRODID:-//StivoZ.gr - ECPv5.16.4//NONSGML v1.0//EN
CALSCALE:GREGORIAN
METHOD:PUBLISH
X-WR-CALNAME:StivoZ.gr
X-ORIGINAL-URL:https://www.stivoz.gr
X-WR-CALDESC:StivoZ.gr - Εκδηλώσεις
BEGIN:VTIMEZONE
TZID:Europe/Athens
BEGIN:DAYLIGHT
TZOFFSETFROM:+0200
TZOFFSETTO:+0300
TZNAME:EEST
DTSTART:20100328T010000
END:DAYLIGHT
BEGIN:STANDARD
TZOFFSETFROM:+0300
TZOFFSETTO:+0200
TZNAME:EET
DTSTART:20101031T010000
END:STANDARD
END:VTIMEZONE
BEGIN:VEVENT
DTSTART;VALUE=DATE:20100728
DTEND;VALUE=DATE:20100802
DTSTAMP:20260422T054306
CREATED:20100714T165951Z
LAST-MODIFIED:20181208T172903Z
UID:28490-1280307600-1280683800@www.stivoz.gr
SUMMARY:Παναφρικανικό Πρωτάθλημα (Ναιρόμπι)
DESCRIPTION:www.nairobi2010.com
URL:https://www.stivoz.gr/event/panafrikaniko-protathlima-nairompi/
CATEGORIES:Ημερολόγιο αγώνων
END:VEVENT
END:VCALENDAR