BEGIN:VCALENDAR
VERSION:2.0
PRODID:-//StivoZ.gr - ECPv5.16.4//NONSGML v1.0//EN
CALSCALE:GREGORIAN
METHOD:PUBLISH
X-WR-CALNAME:StivoZ.gr
X-ORIGINAL-URL:https://www.stivoz.gr
X-WR-CALDESC:StivoZ.gr - Εκδηλώσεις
BEGIN:VTIMEZONE
TZID:Europe/Athens
BEGIN:DAYLIGHT
TZOFFSETFROM:+0200
TZOFFSETTO:+0300
TZNAME:EEST
DTSTART:20170326T010000
END:DAYLIGHT
BEGIN:STANDARD
TZOFFSETFROM:+0300
TZOFFSETTO:+0200
TZNAME:EET
DTSTART:20171029T010000
END:STANDARD
END:VTIMEZONE
BEGIN:VEVENT
DTSTART;VALUE=DATE:20170617
DTEND;VALUE=DATE:20170619
DTSTAMP:20260420T014423
CREATED:20170609T002649Z
LAST-MODIFIED:20220622T073458Z
UID:29227-1497724200-1497821400@www.stivoz.gr
SUMMARY:Παγκύπριοι Α/Γ (Λεμεσός)
DESCRIPTION:Σχετικά θέματα:\n– www.stivoz.com/forum/showthread.php?16691 (αποτελέσματα)\n– www.stivoz.com/content.php?6218-Oi-Pagkyprioi-Agones-stis-17-18-Iouniou-sti-Lemeso-sta-125-xronia-toy-GSO\n– www.stivoz.com/content.php?6223-Pagkyprioi-Aggixe-to-orio-i-Artymata-rekor-agonon-Evaggelidou-Trajkovc\n– www.stivoz.com/content.php?6229-Pagkyprioi-Grigoro-kai-to-200ari-tis-Artymata-Kales-voles-oi-mikres \n-> συμμετοχές \n->Προκήρυξη \nΠρόγραμμα – Τσίρειο Στάδιο \nΑʼ ΗΜΕΡΑ – ΣΑΒΒΑΤΟ\, 17 ΙΟΥΝΙΟΥ 2017 \n5.30μμ. ΕΠΙ ΚΟΝΤΩ ΑΝΔΡΩΝ ΤΕΛΙΚΟΣ\n5.40μμ. 100Μ. ΓΥΝΑΙΚΩΝ Βʼ ΤΕΛΙΚΗ ΣΕΙΡΑ\n5.50μμ. 100 ΜΕΤΡΑ ΑΝΔΡΩΝ ΒʼΤΕΛΙΚΗ ΣΕΙΡΑ\n6.00μμ. 3000Μ. ΣΤΗΠΛ ΓΥΝΑΙΚΩΝ ΤΕΛΙΚΟΣ\n6.30μμ. ΤΕΛΕΤΗ ΕΝΑΡΞΗΣ ΑΓΩΝΩΝ\n7.00μμ. ΤΡΙΠΛΟΥΝ ΓΥΝΑΙΚΩΝ ΤΕΛΙΚΟΣ\n7.00μμ. ΥΨΟΣ ΑΝΔΡΩΝ ΤΕΛΙΚΟΣ\n7.00μμ. ΔΙΣΚΟΒΟΛΙΑ ΑΝΔΡΩΝ ΤΕΛΙΚΟΣ\n7.00μμ. 100Μ ΕΜΠΟΔΙΑ ΓΥΝΑΙΚΩΝ ΤΕΛΙΚΟΣ\n7.15μμ. 110Μ ΕΜΠΟΔΙΑ ΑΝΔΡΩΝ ΤΕΛΙΚΟΣ\n7.25μμ. 100 ΜΕΤΡΑ ΓΥΝΑΙΚΩΝ ΑʼΤΕΛΙΚΗ ΣΕΙΡΑ\n7.35μμ. 100 ΜΕΤΡΑ ΑΝΔΡΩΝ ΑʼΤΕΛΙΚΗ ΣΕΙΡΑ\n7.45μμ. 1500 ΜΕΤΡΑ ΓΥΝΑΙΚΩΝ ΤΕΛΙΚΟΣ\n8.00μμ. 1500 ΜΕΤΡΑ ΑΝΔΡΩΝ ΤΕΛΙΚΟΣ\n8.00μμ. ΤΡΙΠΛΟΥΝ ΑΝΔΡΩΝ ΤΕΛΙΚΟΣ\n8.00μμ. ΔΙΣΚΟΒΟΛΙΑ ΓΥΝΑΙΚΩΝ ΤΕΛΙΚΟΣ\n8.15μμ. 3000Μ.ΣΤΗΠΛ ΑΝΔΡΩΝ ΤΕΛΙΚΟΣ\n8.30μμ. 400 ΜΕΤΡΑ ΓΥΝΑΙΚΩΝ\n8.40μμ. 400 ΜΕΤΡΑ ΑΝΔΡΩΝ\n8.50μμ. 4Χ100 ΜΕΤΡΑ ΓΥΝΑΙΚΩΝ ΤΕΛΙΚΟΣ\n9.00μμ. 4Χ100 ΜΕΤΡΑ ΑΝΔΡΩΝ ΤΕΛΙΚΟΣ \nΒʼ ΗΜΕΡΑ – ΚΥΡΙΑΚΗ\, 18 ΙΟΥΝΙΟΥ 2017 \n4.00μμ. ΣΦΥΡΟΒΟΛΙΑ ΓΥΝΑΙΚΩΝ ΤΕΛΙΚΟΣ\n5.00μμ. ΣΦΥΡΟΒΟΛΙΑ ΑΝΔΡΩΝ ΤΕΛΙΚΟΣ\n6.10μμ. 200 ΜΕΤΡΑ ΓΥΝΑΙΚΩΝ ΒʼΤΕΛΙΚΗ ΣΕΙΡΑ\n6.20μμ. 200 ΜΕΤΡΑ ΓΥΝΑΙΚΩΝ ΑʼΤΕΛΙΚΗ ΣΕΙΡΑ\n6.30μμ. ΕΠΙ ΚΟΝΤΩ ΓΥΝΑΙΚΩΝ ΤΕΛΙΚΟΣ\n6.30μμ. ΜΗΚΟΣ ΓΥΝΑΙΚΩΝ ΤΕΛΙΚΟΣ\n7.00μμ. ΥΨΟΣ ΓΥΝΑΙΚΩΝ ΤΕΛΙΚΟΣ\n7.00μμ. ΣΦΑΙΡΟΒΟΛΙΑ ΓΥΝΑΙΚΩΝ ΤΕΛΙΚΟΣ\n7.00μμ. ΑΚΟΝΤΙΣΜΟΣ ΑΝΔΡΩΝ ΤΕΛΙΚΟΣ\n7.10μμ. 400Μ.ΕΜΠΟΔΙΑ ΑΝΔΡΩΝ ΒʼΤΕΛΙΚΗ ΣΕΙΡΑ\n7.15μμ. 400Μ ΕΜΠΟΔΙΑ ΑΝΔΡΩΝ ΑʼΤΕΛΙΚΗ ΣΕΙΡΑ\n7.25μμ. 800 ΜΕΤΡΑ ΓΥΝΑΙΚΩΝ ΤΕΛΙΚΟΣ\n7.35μμ. 800 ΜΕΤΡΑ ΑΝΔΡΩΝ ΤΕΛΙΚΟΣ\n7.45μμ. ΜΗΚΟΣ ΑΝΔΡΩΝ ΤΕΛΙΚΟΣ\n7.45μμ. 200 ΜΕΤΡΑ ΑΝΔΡΩΝ ΒʼΤΕΛΙΚΗ ΣΕΙΡΑ\n7.55μμ. 200 ΜΕΤΡΑ ΑΝΔΡΩΝ ΑʼΤΕΛΙΚΗ ΣΕΙΡΑ\n8.00μμ. ΣΦΑΙΡΟΒΟΛΙΑ ΑΝΔΡΩΝ ΤΕΛΙΚΟΣ\n8.00μμ. ΑΚΟΝΤΙΣΜΟΣ ΓΥΝΑΙΚΩΝ ΤΕΛΙΚΟΣ\n8.05μμ. 5000 ΜΕΤΡΑ ΑΝΔΡΩΝ ΤΕΛΙΚΟΣ\n8.25μμ. 5000 ΜΕΤΡΑ ΓΥΝΑΙΚΩΝ ΤΕΛΙΚΟΣ\n8.50μμ. 4Χ400 ΜΕΤΡΑ ΓΥΝΑΙΚΩΝ ΤΕΛΙΚΟΣ\n9.00μμ. 4Χ400 ΜΕΤΡΑ ΑΝΔΡΩΝ ΤΕΛΙΚΟΣ
URL:https://www.stivoz.gr/event/pagkyprio-2017/
CATEGORIES:Ημερολόγιο αγώνων
END:VEVENT
END:VCALENDAR