BEGIN:VCALENDAR
VERSION:2.0
PRODID:-//StivoZ.gr - ECPv5.16.4//NONSGML v1.0//EN
CALSCALE:GREGORIAN
METHOD:PUBLISH
X-WR-CALNAME:StivoZ.gr
X-ORIGINAL-URL:https://www.stivoz.gr
X-WR-CALDESC:StivoZ.gr - Εκδηλώσεις
BEGIN:VTIMEZONE
TZID:Europe/Athens
BEGIN:DAYLIGHT
TZOFFSETFROM:+0200
TZOFFSETTO:+0300
TZNAME:EEST
DTSTART:20150329T010000
END:DAYLIGHT
BEGIN:STANDARD
TZOFFSETFROM:+0300
TZOFFSETTO:+0200
TZNAME:EET
DTSTART:20151025T010000
END:STANDARD
END:VTIMEZONE
BEGIN:VEVENT
DTSTART;VALUE=DATE:20150627
DTEND;VALUE=DATE:20150629
DTSTAMP:20260419T202038
CREATED:20150611T073932Z
LAST-MODIFIED:20220622T073518Z
UID:29014-1435420800-1435525200@www.stivoz.gr
SUMMARY:Παγκύπριοι Αγώνες (Λευκωσία)
DESCRIPTION:Σχετικά θέματα:\n– www.stivoz.com/content.php?5029-Pagkyprioi-sti-Lemeso\n– www.stivoz.com/content.php?5039-O-Xondrokoukis-nikitis-sto-ypsos-Kales-epidoseis-tin-A-hmera-Pagkypriwn\n– www.stivoz.com/content.php?5041-O-GSP-protathlitis-Kyprou-3-epidoseis-agonon-ti-B-imera \n– www.stivoz.com/forum/showthread.php?14019 (αποτελέσματα) \n-> Start List \nΠρόγραμμα: \nΣΑΒΒΑΤΟ 27 ΙΟΥΝΙΟΥ 2015 \nΠροκριματικοί:\n09:00 Ύψος Α\n09:00 Τριπλούν Α\n09:00 Δίσκος Α\n09:00 100μ. εμπ. Γ\n09:15 110μ. εμπ. Α\n09:30 100μ. Γ\n09:45 100μ. Α\n10:00 400μ. Γ\n10:15 Τριπλούν Γ\n10:15 Δίσκος Γ\n10:30 400μ. Α \nΤελικοί:\n18:15 Επικοντώ Α\n18:15 3000μ.στ. Γ\n19:15 Ύψος Α\n19:15 Τριπλούν Α\n19:15 Δίσκος Α\n19:15 100μ. εμπ. Γ\n19:30 110μ. εμπ. Α\n19:40 100μ. Γ\n19:50 100μ. Α\n20:00 1500μ. Γ\n20:15 1500μ. Α\n20:15 Τριπλούν Γ\n20:15 Δίσκος Γ\n20:30 3000μ.στ. Α\n20:45 400μ. Γ\n20:55 400μ. Α\n21:05 4χ100μ. Γ\n21:15 4χ100μ. Α \nΚΥΡΙΑΚΗ 28 ΙΟΥΝΙΟΥ 2015 \nΠροκριματικοί:\n09:00 Ύψος Γ\n09:00 Μήκος Γ\n09:00 Σφαίρα Γ\n09:00 Ακόντιο Α\n09:00 400μ. εμπ. Γ\n09:20 400μ. εμπ. Α\n09:40 800μ. Γ\n10:00 800μ. Α\n10:15 Μήκος Α\n10:15 Σφαίρα Α\n10:15 Ακόντιο Γ\n10:20 200μ. Γ\n10:35 200μ. Α \nΤελικοί:\n16:00 Σφύρα Γ\n17:00 Σφύρα Α\n18:30 Επικοντώ Γ\n19:00 Ύψος Γ\n19:00 Μήκος Γ\n19:00 Σφαίρα Γ\n19:00 Ακόντιο Α\n19:00 400μ. εμπ. Γ\n19:15 400μ. εμπ. Α\n19:25 800μ. Γ\n19:35 800μ. Α\n19:45 200μ. Γ\n19:55 200μ. Α\n20:00 Μήκος Α\n20:00 Σφαίρα Α\n20:00 Ακόντιο Γ\n20:05 5000μ. Α\n20:25 5000μ. Γ\n20:50 4χ400μ. Γ\n21:00 4χ400μ. Α
URL:https://www.stivoz.gr/event/pagkyprio-2015/
CATEGORIES:Ημερολόγιο αγώνων
END:VEVENT
END:VCALENDAR