BEGIN:VCALENDAR
VERSION:2.0
PRODID:-//StivoZ.gr - ECPv5.16.4//NONSGML v1.0//EN
CALSCALE:GREGORIAN
METHOD:PUBLISH
X-WR-CALNAME:StivoZ.gr
X-ORIGINAL-URL:https://www.stivoz.gr
X-WR-CALDESC:StivoZ.gr - Εκδηλώσεις
BEGIN:VTIMEZONE
TZID:Europe/Athens
BEGIN:DAYLIGHT
TZOFFSETFROM:+0200
TZOFFSETTO:+0300
TZNAME:EEST
DTSTART:20080330T010000
END:DAYLIGHT
BEGIN:STANDARD
TZOFFSETFROM:+0300
TZOFFSETTO:+0200
TZNAME:EET
DTSTART:20081026T010000
END:STANDARD
END:VTIMEZONE
BEGIN:VEVENT
DTSTART;VALUE=DATE:20080209
DTEND;VALUE=DATE:20080211
DTSTAMP:20260423T110752
CREATED:20071214T132438Z
LAST-MODIFIED:20181208T172945Z
UID:28200-1202547600-1202677200@www.stivoz.gr
SUMMARY:Π.Πρ. συνθέτων
DESCRIPTION:Σάββατο 9/2\n10.00 60μ Α επτάθλου\n11.00 Μήκος Α επτάθλου\n12.30 Σφαιροβολία Α επτάθλου\n14.30 Ύψος Α επτάθλου \nΚυριακή 10/12\n11.00 60μ εμπόδια Γ πεντάθλου\n11.15 60μ εμπόδια Α επτάθλου\n11.45 Ύψος Γ πεντάθλου\n12.30 Επί κοντώ Α επτάθλου\n14.00 Σφαιροβολία Γ πεντάθλου\n16.00 Μήκος Γ πεντάθλου\n17.20 1.000μ Α επτάθλου\n17.40 800μ Γ πεντάθλου
URL:https://www.stivoz.gr/event/p-pr-syntheton/
CATEGORIES:Ημερολόγιο αγώνων
END:VEVENT
END:VCALENDAR