BEGIN:VCALENDAR
VERSION:2.0
PRODID:-//StivoZ.gr - ECPv5.16.4//NONSGML v1.0//EN
CALSCALE:GREGORIAN
METHOD:PUBLISH
X-WR-CALNAME:StivoZ.gr
X-ORIGINAL-URL:https://www.stivoz.gr
X-WR-CALDESC:StivoZ.gr - Εκδηλώσεις
BEGIN:VTIMEZONE
TZID:Europe/Athens
BEGIN:DAYLIGHT
TZOFFSETFROM:+0200
TZOFFSETTO:+0300
TZNAME:EEST
DTSTART:20240331T010000
END:DAYLIGHT
BEGIN:STANDARD
TZOFFSETFROM:+0300
TZOFFSETTO:+0200
TZNAME:EET
DTSTART:20241027T010000
END:STANDARD
END:VTIMEZONE
BEGIN:VEVENT
DTSTART;VALUE=DATE:20240421
DTEND;VALUE=DATE:20240422
DTSTAMP:20260422T055011
CREATED:20240408T095909Z
LAST-MODIFIED:20240421T172520Z
UID:113598-1713657600-1713743999@www.stivoz.gr
SUMMARY:αγώνες ρίψεων “Π.Ακριβάκης” (ΠΓΣ)
DESCRIPTION:Μεταφ. από 14/4 \nΣχετικά θέματα:\n– www.stivoz.gr/agones-ripseon-p-akrivakis-2024/ (αποτελέσματα) \nΠρόγραμμα: \n09:00 Σφύρα Κ16 (Γ)\n09:00 Σφαίρα Κ18 (Γ)\n09:45 Σφαίρα Κ18 (Α)\n10:00 Σφύρα Κ18 (Γ)\n11:00 Δίσκος Κ16 (Γ)\n11:45 Σφύρα Κ18 (Α)\n12:45 Ακόντιο Κ16 & Κ18 (Α)\n15:15 Δίσκος (Γ)\n16:15 Σφύρα (Γ)\n16:45 Σφαίρα (Γ)\n16:45 Ακόντιο (Α)\n17:30 Σφύρα (Α)\n18:15 Δίσκος (Α)\n19:00 Σφαίρα (Α)\n19:00 Ακόντιο (Γ) & Κ20 (Γ) \nΈως 12 αθλητές/-τριες  ανά αγώνισμα \n\nΔηλώσεις συμμετoχής μέχρι τη Δευτέρα 15 Απριλίου στο agonistiko@panelliniosac.gr
URL:https://www.stivoz.gr/event/p-akrivakis-2024/
CATEGORIES:Ημερολόγιο αγώνων
END:VEVENT
END:VCALENDAR