BEGIN:VCALENDAR
VERSION:2.0
PRODID:-//StivoZ.gr - ECPv5.16.4//NONSGML v1.0//EN
CALSCALE:GREGORIAN
METHOD:PUBLISH
X-WR-CALNAME:StivoZ.gr
X-ORIGINAL-URL:https://www.stivoz.gr
X-WR-CALDESC:StivoZ.gr - Εκδηλώσεις
BEGIN:VTIMEZONE
TZID:Europe/Athens
BEGIN:STANDARD
TZOFFSETFROM:+0200
TZOFFSETTO:+0200
TZNAME:EET
DTSTART:20120101T000000
END:STANDARD
END:VTIMEZONE
BEGIN:VEVENT
DTSTART;VALUE=DATE:20120524
DTEND;VALUE=DATE:20260420
DTSTAMP:20260419T230506
CREATED:20120524T042343Z
LAST-MODIFIED:20181218T100753Z
UID:28688-1337817600-0@www.stivoz.gr
SUMMARY:Ορσίππεια 2012
DESCRIPTION:ΟΡΣΙΠΠΕΙΑ 2012\nΩΡΟΛΟΓΙΟ ΠΡΟΓΡΑΜΜΑ\nΜΕΓΑΡΑ 3 ΙΟΥΝΙΟΥ 2012 \n16.00          300μ Εμπ. ΠΚΑ \n16.10         300μ Εμπ. ΠΠΑ \n16.25         400μ Εμπ. Γ –  ΑΚΟΝΤΙΟ Γ \n16.35         80μ ΠΚΑ \n17:00         100μ Α – ΜΗΚΟΣ ΠΚΑ \n17:20         200μ Γ –  ΑΚΟΝΤΙΟ Α \n17:35          800μ Α \n17:50         800μ Γ – ΤΡΙΠΛΟΥΝ ΠΠΑ \n18:10         4Χ80 μ ΠΚΑ                  \n18:30          ΜΗΚΟΣ  Γ           \n19:20           ΜΗΚΟΣ  Α – Π
URL:https://www.stivoz.gr/event/orsippeia2012/
CATEGORIES:Ημερολόγιο αγώνων
END:VEVENT
END:VCALENDAR