BEGIN:VCALENDAR
VERSION:2.0
PRODID:-//StivoZ.gr - ECPv5.16.4//NONSGML v1.0//EN
CALSCALE:GREGORIAN
METHOD:PUBLISH
X-WR-CALNAME:StivoZ.gr
X-ORIGINAL-URL:https://www.stivoz.gr
X-WR-CALDESC:StivoZ.gr - Εκδηλώσεις
BEGIN:VTIMEZONE
TZID:Europe/Athens
BEGIN:DAYLIGHT
TZOFFSETFROM:+0200
TZOFFSETTO:+0300
TZNAME:EEST
DTSTART:20190331T010000
END:DAYLIGHT
BEGIN:STANDARD
TZOFFSETFROM:+0300
TZOFFSETTO:+0200
TZNAME:EET
DTSTART:20191027T010000
END:STANDARD
END:VTIMEZONE
BEGIN:VEVENT
DTSTART;VALUE=DATE:20190616
DTEND;VALUE=DATE:20190617
DTSTAMP:20260419T202350
CREATED:20190607T104316Z
LAST-MODIFIED:20190617T113809Z
UID:51105-1560643200-1560729599@www.stivoz.gr
SUMMARY:Ορσίππεια (Μέγαρα)
DESCRIPTION:Σχετικά θέματα:\n– https://www.stivoz.gr/rekor-paidwn-o-granitsiotis-sta-200m-sta-orsippeia/\n– https://www.stivoz.gr/orsippeia-2019/ (αποτελέσματα) \nΠρόγραμμα: \n16.30 ΜΗΚΟΣ Π-ΠΠΑ\n16.30 ΣΦΑΙΡΑ Κ\n16.30 400 ΕΜΠ Κ-Γ\n16.40 400 ΕΜΠ Α\n16.50 80μ ΠΚΑ\n17.10 80μ ΠΠΑ\n17.25 100μ Γ\n17.45 100μ Α\n17.45 ΜΗΚΟΣ Κ-ΠΚΑ\n17.45 ΣΦΑΙΡΑ Π\n18.05 100 ΕΜΠ Γ\n18.15 150μ ΠΚΑ\n18.30 150μ ΠΠΑ\n18.45 ΥΨΟΣ ΠΚΑ\n18.45 ΑΚΟΝΤΙΟ Π\n18.45 200μ Γ\n19.10 200μ Α\n19.30 600μ ΠΚΑ\n19.40 600μ ΠΠΑ & μία σειρά Α-Ε-Π\n19.55 800μ Γ\n20.05 800μ Α\n20.05 ΤΡΙΠΛΟΥΝ Κ-Γ\n20.15 400μ Κ\n20.30 400μ Π\n20.50 4Χ80μ ΠΚΑ\n21.00 4Χ80μ ΠΠΑ \nΟι δηλώσεις συμμετοχής των αθλητών –τριών θα γίνονται στο e-mail : aomegarwn@hotmail.gr μέχρι την Πέμπτη 13/06/2019 αποκλειστικά και μόνο στη σχετική φόρμα.
URL:https://www.stivoz.gr/event/orsippeia-2019/
LOCATION:Στάδιο Μεγαρέων Ολυμπιονικών\, Μοράβα 30\, Μέγαρα
CATEGORIES:Ημερολόγιο αγώνων
END:VEVENT
END:VCALENDAR