BEGIN:VCALENDAR
VERSION:2.0
PRODID:-//StivoZ.gr - ECPv5.16.4//NONSGML v1.0//EN
CALSCALE:GREGORIAN
METHOD:PUBLISH
X-WR-CALNAME:StivoZ.gr
X-ORIGINAL-URL:https://www.stivoz.gr
X-WR-CALDESC:StivoZ.gr - Εκδηλώσεις
BEGIN:VTIMEZONE
TZID:Europe/Athens
BEGIN:STANDARD
TZOFFSETFROM:+0200
TZOFFSETTO:+0200
TZNAME:EET
DTSTART:20090101T000000
END:STANDARD
END:VTIMEZONE
BEGIN:VEVENT
DTSTART;VALUE=DATE:20090624
DTEND;VALUE=DATE:20260422
DTSTAMP:20260421T170343
CREATED:20090512T191120Z
LAST-MODIFIED:20210512T185324Z
UID:28309-1245801600-0@www.stivoz.gr
SUMMARY:3ο Eλ.grandprix - Αργος Ορεστικο
DESCRIPTION:16.00 Ακοντισμός Γ\n17.30 Δισκοβολία Γ\n17.45 80μ ΠΠ Α΄\, επί κοντώ Α\, σφαιροβολία Α\n17.55 80μ ΠΚ Α΄\n18.10 100μ εμπόδια Γ\, μήκος Α\n18.25 110μ εμπόδια Α\n18.40 100μ Γ\n18.50 Ύψος Γ\n19.00 100μ Α\, δισκοβολία Α\n19.20 3.000μ Α\n19.45 Τριπλούν Γ\n20.00 800μ Γ\n20.10 800μ Α\n20.15 Ακοντισμός Α\n20.20 400μ Α\n20.40 400μ εμπόδια Γ\n20.50 400μ εμπόδια Α
URL:https://www.stivoz.gr/event/orestiko-2009/
CATEGORIES:Ημερολόγιο αγώνων
END:VEVENT
END:VCALENDAR