BEGIN:VCALENDAR
VERSION:2.0
PRODID:-//StivoZ.gr - ECPv5.16.4//NONSGML v1.0//EN
CALSCALE:GREGORIAN
METHOD:PUBLISH
X-WR-CALNAME:StivoZ.gr
X-ORIGINAL-URL:https://www.stivoz.gr
X-WR-CALDESC:StivoZ.gr - Εκδηλώσεις
BEGIN:VTIMEZONE
TZID:Europe/Athens
BEGIN:DAYLIGHT
TZOFFSETFROM:+0200
TZOFFSETTO:+0300
TZNAME:EEST
DTSTART:20090329T010000
END:DAYLIGHT
BEGIN:STANDARD
TZOFFSETFROM:+0300
TZOFFSETTO:+0200
TZNAME:EET
DTSTART:20091025T010000
END:STANDARD
END:VTIMEZONE
BEGIN:VEVENT
DTSTART;VALUE=DATE:20090723
DTEND;VALUE=DATE:20090727
DTSTAMP:20260421T001318
CREATED:20071014T093042Z
LAST-MODIFIED:20181218T103552Z
UID:28181-1248336000-1248642000@www.stivoz.gr
SUMMARY:20ο πανευρωπαικό πρ. Ε/Ν - NoviSad
DESCRIPTION:http://www.ejchnovisad2009.com/index.php?lang=en \nΣχετικά θέματα:\nhttp://www.stivoz.gr/?p=10838\nhttp://www.stivoz.gr/?p=10836 (1η ημέρα)\nhttp://www.stivoz.gr/?p=10835 (2η ημέρα)\nhttp://www.stivoz.gr/?p=10834 (3η ημέρα) \nπρόγραμμα: http://www.ejchnovisad2009.com/index.php?option=com_content&task=view&id=38&Itemid=71
URL:https://www.stivoz.gr/event/novisad2009/
CATEGORIES:Ημερολόγιο αγώνων
END:VEVENT
END:VCALENDAR