BEGIN:VCALENDAR
VERSION:2.0
PRODID:-//StivoZ.gr - ECPv5.16.4//NONSGML v1.0//EN
CALSCALE:GREGORIAN
METHOD:PUBLISH
X-WR-CALNAME:StivoZ.gr
X-ORIGINAL-URL:https://www.stivoz.gr
X-WR-CALDESC:StivoZ.gr - Εκδηλώσεις
BEGIN:VTIMEZONE
TZID:Europe/Athens
BEGIN:DAYLIGHT
TZOFFSETFROM:+0200
TZOFFSETTO:+0300
TZNAME:EEST
DTSTART:20160327T010000
END:DAYLIGHT
BEGIN:STANDARD
TZOFFSETFROM:+0300
TZOFFSETTO:+0200
TZNAME:EET
DTSTART:20161030T010000
END:STANDARD
END:VTIMEZONE
BEGIN:VEVENT
DTSTART;VALUE=DATE:20160311
DTEND;VALUE=DATE:20160313
DTSTAMP:20260422T071117
CREATED:20160313T091321Z
LAST-MODIFIED:20181218T092952Z
UID:29089-1457694000-1457816400@www.stivoz.gr
SUMMARY:NCAA & trials USA
DESCRIPTION:Σχετικα θέματα:\n– www.stivoz.com/content.php?5436-Xehorise-o-Kendricks-tin-A-imera-sta-trials-kai-i-Williams-sto-NCAA\n– www.stivoz.com/content.php?5439-2i-i-Gusin-6os-o-Scarvelis-sto-NCAA-Fovero-60ari\n– www.stivoz.com/content.php?5440-Sta-ypsi-Morris-kai-Cunningham-Fwtia-Pierre-kai-empodistries-sto-Portland
URL:https://www.stivoz.gr/event/ncaa-trials-usa-2016/
CATEGORIES:Ημερολόγιο αγώνων
END:VEVENT
END:VCALENDAR