BEGIN:VCALENDAR
VERSION:2.0
PRODID:-//StivoZ.gr - ECPv5.16.4//NONSGML v1.0//EN
CALSCALE:GREGORIAN
METHOD:PUBLISH
X-WR-CALNAME:StivoZ.gr
X-ORIGINAL-URL:https://www.stivoz.gr
X-WR-CALDESC:StivoZ.gr - Εκδηλώσεις
BEGIN:VTIMEZONE
TZID:Europe/Athens
BEGIN:DAYLIGHT
TZOFFSETFROM:+0200
TZOFFSETTO:+0300
TZNAME:EEST
DTSTART:20180325T010000
END:DAYLIGHT
BEGIN:STANDARD
TZOFFSETFROM:+0300
TZOFFSETTO:+0200
TZNAME:EET
DTSTART:20181028T010000
END:STANDARD
END:VTIMEZONE
BEGIN:VEVENT
DTSTART;VALUE=DATE:20180602
DTEND;VALUE=DATE:20180604
DTSTAMP:20260421T151615
CREATED:20180520T092148Z
LAST-MODIFIED:20211210T102332Z
UID:29369-1527931800-1528057800@www.stivoz.gr
SUMMARY:meeting συνθέτων (Νάξος)
DESCRIPTION:www.portarathlon.gr \nΣχετικά θέματα:\n– www.stivoz.com/forum/showthread.php?17692 (αποτελέσματα) \nΠρόγραμμα: \n1st DAY 	 02/06/2018 	 \n09.30 	100m Menʼs\n09.50 	100m Hurdles Womenʼs\n10.00 	Long Jump Menʼs\n10.30 	High Jump Womenʼs\n11.45 	Shot Put Menʼs 	 \n17.00 	High Jump Menʼs\n18.00 	Shot Put Womenʼs\n19.30 	200m Womenʼs\n19.40 	400m Menʼs 	 \n2nd DAY 	 03/06/2018 	 \n09.30 	110m Hurdles Menʼs\n09.50 	Long Jump Womenʼs\n10.15 	Discus Throw Menʼs\n11.30 	Pole Vault Menʼs 	 \n17.00 	Javelin Throw Womenʼs\n18.50 	Javelin Throw Menʼs\n19.15 	800m Womenʼs\n20.00 	1\,500m Menʼs
URL:https://www.stivoz.gr/event/naxos-2018/
CATEGORIES:Ημερολόγιο αγώνων
END:VEVENT
END:VCALENDAR