BEGIN:VCALENDAR
VERSION:2.0
PRODID:-//StivoZ.gr - ECPv5.16.4//NONSGML v1.0//EN
CALSCALE:GREGORIAN
METHOD:PUBLISH
X-WR-CALNAME:StivoZ.gr
X-ORIGINAL-URL:https://www.stivoz.gr
X-WR-CALDESC:StivoZ.gr - Εκδηλώσεις
BEGIN:VTIMEZONE
TZID:Europe/Athens
BEGIN:DAYLIGHT
TZOFFSETFROM:+0200
TZOFFSETTO:+0300
TZNAME:EEST
DTSTART:20140330T010000
END:DAYLIGHT
BEGIN:STANDARD
TZOFFSETFROM:+0300
TZOFFSETTO:+0200
TZNAME:EET
DTSTART:20141026T010000
END:STANDARD
END:VTIMEZONE
BEGIN:VEVENT
DTSTART;VALUE=DATE:20140820
DTEND;VALUE=DATE:20140827
DTSTAMP:20260422T034237
CREATED:20130904T152612Z
LAST-MODIFIED:20181218T094242Z
UID:28820-1408525200-1409086800@www.stivoz.gr
SUMMARY:Ολυμπιακοί Π/Κ (Nanjing)
DESCRIPTION:www.nanjing2014.org (περιλαμβάνει links για livestream)\nΗ διοργάνωση είναι 16-28/8\, τα αγωνίσματα στίβου 20-26/8\nΠρόγραμμα / αποτελ.: www.nanjing2014.org/en/en_sports/GamestimeResults.htm \nΣχετικά θέματα:\n– www.stivoz.com/content.php?4258-Enarksi-Youth-Olympic-Games-Nanjing-20-26-Aygoustou-o-stivos\n– www.stivoz.com/content.php?4263-YOG-me-to-deksi-sto-Nanjing\n– www.stivoz.com/content.php?4265-YOG-kali-emfanisi-oi-sfyrovoloi-Pagkyprio-neanidwn-i-Andreou-sto-Nanjing\n– www.stivoz.com/content.php?4267-YOG-Moirasmenes-oi-teleytaies-prokriseis\n– www.stivoz.com/content.php?4268-YOG-5i-i-Vaitsi-6os-o-Thanasis-me-atomiko-Argyro-i-Kypria-Andreou\n– www.stivoz.com/content.php?4273-YOG-7os-o-Prodanas-sti-sfyrovolia-kai-5i-i-Karastogianni-sto-mikro-teliko\n– www.stivoz.com/content.php?4274-YOG-Oloklirwthikan-ta-atomika-me-Triantafyllou-kai-Romaiou \n– www.stivoz.com/forum/showthread.php?12388 (αποτελέσματα) \n-> αποτελ.πρόκρισης Ευρώπης \nΣυμμετέχουν ανάλογα με το άθλημα ηλικίες 14-18 ετών\, για στίβο οι γεν. 1997 ή 1998\, δηλαδή Παίδες/Κορασίδες\nΥπάρχει αναλογική εκπροσώπηση από κάθε ήπειρο (για 16 άτομα\, με 1 μόνο συμμετοχή δικαίωμα ανά χώρα)\n-βάσει δυναμικότητας\, που προκύπτει από τα τελευταία δύο παγκόσμια πρωταθλήματα της κατηγορίας-
URL:https://www.stivoz.gr/event/nanjing2014/
CATEGORIES:Ημερολόγιο αγώνων
END:VEVENT
END:VCALENDAR