BEGIN:VCALENDAR
VERSION:2.0
PRODID:-//StivoZ.gr - ECPv5.16.4//NONSGML v1.0//EN
CALSCALE:GREGORIAN
METHOD:PUBLISH
X-WR-CALNAME:StivoZ.gr
X-ORIGINAL-URL:https://www.stivoz.gr
X-WR-CALDESC:StivoZ.gr - Εκδηλώσεις
BEGIN:VTIMEZONE
TZID:Europe/Athens
BEGIN:DAYLIGHT
TZOFFSETFROM:+0200
TZOFFSETTO:+0300
TZNAME:EEST
DTSTART:20190331T010000
END:DAYLIGHT
BEGIN:STANDARD
TZOFFSETFROM:+0300
TZOFFSETTO:+0200
TZNAME:EET
DTSTART:20191027T010000
END:STANDARD
END:VTIMEZONE
BEGIN:VEVENT
DTSTART;VALUE=DATE:20190608
DTEND;VALUE=DATE:20190609
DTSTAMP:20260421T121143
CREATED:20190602T194225Z
LAST-MODIFIED:20220509T092341Z
UID:50790-1559952000-1560038399@www.stivoz.gr
SUMMARY:αγώνες "Ν.Ζαχαριάδης" (Θεσσαλονίκη)
DESCRIPTION:Σχετικά θέματα:\n– https://www.stivoz.gr/n-zachariadis-2019/ (αποτελέσματα) \nΠρόγραμμα: \n18:00 ΜΗΚΟΣ ΚΟΡΑΣΙΔΩΝ Κ18\n18:00 ΥΨΟΣ ΚΟΡΑΣΙΔΩΝ Κ18 – ΠΑΓΚΟΡΑΣΙΔΩΝ Κ16\n18:00 ΔΙΣΚΟΣ ΚΟΡΑΣΙΔΩΝ Κ18 – ΠΑΓΚΟΡΑΣΙΔΩΝ Κ16\n18:00 150m ΠΚ Α΄ Κ16\n18:20 150m ΠΠ Α΄ Κ16\n18:40 1.000m ΠΚ Α΄ Κ16\n18:55 1.000m ΠΠ Α΄ Κ16\n19:10 ΜΗΚΟΣ ΠΑΙΔΩΝ Κ18\n19:10 ΔΙΣΚΟΣ ΠΑΙΔΩΝ Κ18 – ΠΑΜΠΑΙΔΩΝ Κ16\n19:10 ΣΦΑΙΡΟΒΟΛΙΑ Α\n19:10 200m Γ\n19:30 200m Α\n20:00 800m Γ\n20:15 800m Α\n20:30 5.000m ΒΑΔΗΝ ΜΙΚΤΗ \nΟι Δηλώσεις Συμμετοχής των αθλητών-τριών θα υποβάλλονται το αργότερο μέχρι την Τρίτη 4 Ιουνίου και ώρα 14:00 στα Γραφεία της ΕΑΣ ΣΕΓΑΣ ΘΕΣΣΑΛΟΝΙΚΗΣ σε ειδικό έντυπο της προκήρυξης ηλεκτρονικά στο segasthes@gmail.com
URL:https://www.stivoz.gr/event/n-zachariadis-2019/
CATEGORIES:Ημερολόγιο αγώνων
END:VEVENT
END:VCALENDAR