BEGIN:VCALENDAR
VERSION:2.0
PRODID:-//StivoZ.gr - ECPv5.16.4//NONSGML v1.0//EN
CALSCALE:GREGORIAN
METHOD:PUBLISH
X-WR-CALNAME:StivoZ.gr
X-ORIGINAL-URL:https://www.stivoz.gr
X-WR-CALDESC:StivoZ.gr - Εκδηλώσεις
BEGIN:VTIMEZONE
TZID:Europe/Athens
BEGIN:STANDARD
TZOFFSETFROM:+0200
TZOFFSETTO:+0200
TZNAME:EET
DTSTART:20170101T000000
END:STANDARD
END:VTIMEZONE
BEGIN:VEVENT
DTSTART;VALUE=DATE:20170520
DTEND;VALUE=DATE:20260420
DTSTAMP:20260419T154749
CREATED:20170509T115153Z
LAST-MODIFIED:20220509T092326Z
UID:29197-1495238400-0@www.stivoz.gr
SUMMARY:"Ν.Ζαχαριάδης" (Θεσσαλονίκη)
DESCRIPTION:Σχετικά θέματα:\n– www.stivoz.com/forum/showthread.php?16529 (αποτελέσματα) \n-> Συμμετοχές \nΠρόγραμμα:   \nΚΑΥΤΑΝΖΟΓΛΕΙΟ ΣΤΑΔΙΟ \n12:00	ΣΦΥΡΑ Α-Π\n12:00	ΣΦΑΙΡΑ Γ\n12:45	ΣΦΑΙΡΑ Α\n13:00	ΣΦΥΡΑ Γ-Κ		 \nΔΗΜΟΤΙΚΟ ΣΤΑΔΙΟ ΑΜΠΕΛΟΚΗΠΩΝ \n18:00 ΕΠΙ  ΚΟΝΤΩ       Γ\n18:00	100 μ. Εμπ.                Γ\n18:15	110 μ. Εμπ.                Α\n18:30	100 μ.                         Α\n19:00	200 μ.                         Γ\n19:00 ΜΗΚΟΣ    Γ\n19:30	600 μ.                         ΠΚΑ\n19:50	1.000 μ.                      ΠΠΑ\n20:00 ΤΡΙΠΛΟΥΝ   Α\n20:00	800 μ.                         Γ\n20:10	800                              Α\n20:20	400μ.                         Α\n20:35	3.000μ.                 Α		 \nΟι δηλώσεις συμμετοχής (έως 2 αγωνίσματα για κάθε αθλητή) πρέπει να αποσταλούν στην ΕΑΣ ΣΕΓΑΣ Θεσ/νίκης (Καυτανζόγλειο Στάδιο\, Θύρα 10)\,\nσε ειδικό έντυπο που επισυνάπτεται στην προκήρυξη\, στο e-mail: segasthes@gmail.com μέχρι την ΤΡΙΤΗ 16-05-2017 και ώρα 14:00.
URL:https://www.stivoz.gr/event/n-zachariadis-2017/
CATEGORIES:Ημερολόγιο αγώνων
END:VEVENT
END:VCALENDAR