BEGIN:VCALENDAR
VERSION:2.0
PRODID:-//StivoZ.gr - ECPv5.16.4//NONSGML v1.0//EN
CALSCALE:GREGORIAN
METHOD:PUBLISH
X-WR-CALNAME:StivoZ.gr
X-ORIGINAL-URL:https://www.stivoz.gr
X-WR-CALDESC:StivoZ.gr - Εκδηλώσεις
BEGIN:VTIMEZONE
TZID:Europe/Athens
BEGIN:STANDARD
TZOFFSETFROM:+0200
TZOFFSETTO:+0200
TZNAME:EET
DTSTART:20100101T000000
END:STANDARD
END:VTIMEZONE
BEGIN:VEVENT
DTSTART;VALUE=DATE:20100530
DTEND;VALUE=DATE:20260425
DTSTAMP:20260424T203829
CREATED:20100519T081324Z
LAST-MODIFIED:20210518T080038Z
UID:28473-1275177600-0@www.stivoz.gr
SUMMARY:Μπιζάνεια (Καλλιθέα)
DESCRIPTION:Πρωι\n09:00 Υψος ΠΠΒ\n09:00 Σφαιρα ΠΠΒ\n09:00 Βαδην ΠΚΑ\n09:05 Βαδην ΠΚΒ & ΠΠΒ\n09:05 Μήκος ΠΚΒ\n09:05 Επικοντώ ΠΚΑ\n09:05 Ακοντισμός Κ & ΠΚΑ\n09:30 Σφαιρα ΠΚΒ\n09:30 60μ ΠΚΒ\n10:00 60μ ΠΠΒ\n10:00 Υψος ΠΚΒ\n10:00 Μπαλλακι ΠΠΒ\n10:30 Σφαίρα ΠΠΑ\n10:30 Μήκος ΠΠΒ\n10:30 1000μ ΠΚΒ\n10:45 1000μ ΠΠΒ\n11:00 Επικοντώ ΠΠΑ\n11:00 Μπαλλακι ΠΚΒ\n11:00 150μ ΠΚΒ\n11:20 150μ ΠΠΒ\n11:20 Σφαίρα ΠΚΑ\n11:35 150μ ΠΚΑ\n11:50 150μ ΠΠΑ \nΑπογευμα\n16:30 Επικοντώ Γ & Κ\n17:00 Μήκος Π & ΠΠΑ\n17:00 Ακοντισμός Π & ΠΠΑ\n17:00 110μ.εμπ Α\n17:10 110μ.εμπ Π\n17:10 Υψος Γ & Κ\n17:10 Σφαίρα Γ & Κ\n17:20 100μ.εμπ Γ\n17:25 110μ.εμπ ΠΠΑ\n17:30 100μ.εμπ Κ\n17:40 100μ. Π\n17:50 Σφαίρα Π\n17:50 80μ ΠΠΑ\n18:00 80μ ΠΚΑ\n18:00 Μήκος Γ & Κ\n18:00 Ακοντισμός Γ & Κ\n18:15 600μ ΠΚΑ\n18:30 Υψος Α & Π\n18:30 1000μ ΠΠΑ\n18:45 1000μ ΠΚΑ\n18:45 Επικοντώ Α & Π\n18:45 Σφαίρα Α\n19:00 Ακοντισμός Α\n19:00 Τριπλούν Α & Π\n19:00 200μ Γ\n19:15 200μ Α\n19:30 1500μ Γ & Κ\n19:45 800μ Α & Π\n20:00 2χλμ ΠΚΑ\n20:15 3χλμ ΠΠΑ
URL:https://www.stivoz.gr/event/mpizaneia-2010/
CATEGORIES:Ημερολόγιο αγώνων
END:VEVENT
END:VCALENDAR