BEGIN:VCALENDAR
VERSION:2.0
PRODID:-//StivoZ.gr - ECPv5.16.4//NONSGML v1.0//EN
CALSCALE:GREGORIAN
METHOD:PUBLISH
X-WR-CALNAME:StivoZ.gr
X-ORIGINAL-URL:https://www.stivoz.gr
X-WR-CALDESC:StivoZ.gr - Εκδηλώσεις
BEGIN:VTIMEZONE
TZID:Europe/Athens
BEGIN:DAYLIGHT
TZOFFSETFROM:+0200
TZOFFSETTO:+0300
TZNAME:EEST
DTSTART:20200329T010000
END:DAYLIGHT
BEGIN:STANDARD
TZOFFSETFROM:+0300
TZOFFSETTO:+0200
TZNAME:EET
DTSTART:20201025T010000
END:STANDARD
END:VTIMEZONE
BEGIN:VEVENT
DTSTART;VALUE=DATE:20200617
DTEND;VALUE=DATE:20200618
DTSTAMP:20260420T183406
CREATED:20200621T095951Z
LAST-MODIFIED:20200621T100026Z
UID:67762-1592352000-1592438399@www.stivoz.gr
SUMMARY:Μιραμπέλο (Αγ.Νικόλαος)
DESCRIPTION:Σχετικά θέματα:\n– www.stivoz.gr/mirampelo-2020/ (αποτελέσματα)
URL:https://www.stivoz.gr/event/mirampelo-2020/
CATEGORIES:Ημερολόγιο αγώνων
END:VEVENT
END:VCALENDAR