BEGIN:VCALENDAR
VERSION:2.0
PRODID:-//StivoZ.gr - ECPv5.16.4//NONSGML v1.0//EN
CALSCALE:GREGORIAN
METHOD:PUBLISH
X-WR-CALNAME:StivoZ.gr
X-ORIGINAL-URL:https://www.stivoz.gr
X-WR-CALDESC:StivoZ.gr - Εκδηλώσεις
BEGIN:VTIMEZONE
TZID:Europe/Athens
BEGIN:STANDARD
TZOFFSETFROM:+0200
TZOFFSETTO:+0200
TZNAME:EET
DTSTART:20090101T000000
END:STANDARD
END:VTIMEZONE
BEGIN:VEVENT
DTSTART;VALUE=DATE:20090613
DTEND;VALUE=DATE:20260422
DTSTAMP:20260421T035149
CREATED:20090611T121210Z
LAST-MODIFIED:20200621T095720Z
UID:28329-1244851200-0@www.stivoz.gr
SUMMARY:αγωνες στίβου "Μιραμπελο"2009 (Αγ.Νικόλαος)
DESCRIPTION:«ΜΙΡΑΜΠΕΛΟ 2009»\nΔΗΜΟΤΙΚΟ ΣΤΑΔΙΟ ΑΓΙΟΥ ΝΙΚΟΛΑΟΥ\nΣΑΒΒΑΤΟ 13 ΙΟΥΝΙΟΥ 2009\nΩΡΑ ΔΡΟΜΟΙ ΑΛΜΑΤΑ ΡΙΨΕΙΣ \n17.15 110 ΕΜΠ. Π. ΤΡΙΠΛΟΥΝ Γ ΜΠΑΛΑΚΙ ΠΚ Β΄\n17.25 100 ΕΜΠ. ΠΠ Α΄\n17.35 100 ΕΜΠ. Κ. ΥΨΟΣ ΠΚ Β΄\n17.45 60 ΠΠ – ΠΚ Β΄ ΤΡΙΠΛΟΥΝ Α ΜΠΑΛΑΚΙ ΠΠ Β΄\n17.55 80 ΠΠ – ΠΚ Α΄\n18.10 800 Α ΥΨΟΣ Γ\n18.25 100 Α – Γ ΜΗΚΟΣ Γ\n18.40 150 ΠΠ – ΠΚ Α΄\n18.55 600 ΠΠ Α΄\n19.05 2.000 Γ ΜΗΚΟΣ Α\n19.15 1.000 ΠΠ – ΠΚ Β΄\n19.30 3.000 Α-ΠΠΑ΄\n19.45 400 ΕΜΠ Γ\n19.55 300 ΠΚ΄\n20.05 400 Α\n20.15 .4 Χ 300 ΠΠ Α΄
URL:https://www.stivoz.gr/event/mirampelo-2009/
CATEGORIES:Ημερολόγιο αγώνων
END:VEVENT
END:VCALENDAR