BEGIN:VCALENDAR
VERSION:2.0
PRODID:-//StivoZ.gr - ECPv5.16.4//NONSGML v1.0//EN
CALSCALE:GREGORIAN
METHOD:PUBLISH
X-WR-CALNAME:StivoZ.gr
X-ORIGINAL-URL:https://www.stivoz.gr
X-WR-CALDESC:StivoZ.gr - Εκδηλώσεις
BEGIN:VTIMEZONE
TZID:Europe/Athens
BEGIN:DAYLIGHT
TZOFFSETFROM:+0200
TZOFFSETTO:+0300
TZNAME:EEST
DTSTART:20190331T010000
END:DAYLIGHT
BEGIN:STANDARD
TZOFFSETFROM:+0300
TZOFFSETTO:+0200
TZNAME:EET
DTSTART:20191027T010000
END:STANDARD
END:VTIMEZONE
BEGIN:VEVENT
DTSTART;VALUE=DATE:20190119
DTEND;VALUE=DATE:20190120
DTSTAMP:20260420T010906
CREATED:20181221T201338Z
LAST-MODIFIED:20230118T141622Z
UID:41214-1547856000-1547942399@www.stivoz.gr
SUMMARY:Μεσογειακοί Νέων κλειστού (Miramas)
DESCRIPTION:http://www.mediterranean-athletics.org/ \nΣχετικά θέματα:\n– https://www.stivoz.gr/oi-1oi-mesogeiakoi-neon-se-kleisto-stis-19-1/\n– https://www.stivoz.gr/orio-o-tentogloy-treis-proties-se-miramas2019/\n– https://www.stivoz.gr/2019miramas/ (αποτελέσματα) \nStadium Miramas Metropole\nΣτο πρόγραμμα δεν περιλαμβάνονται σύνθετα και τα 3000μ. κι επίσης για άνδρες ύψος\, τριπλούν και για γυναίκες επί κοντώ\, μήκος (αντίστροφα ανά διοργάνωση)\n-> teammanual \nΠρόγραμμα (τοπική ώρα\, +1 για Ελλάδα) \n11:00 400m W R1 (Βέρα Γρίλλου)\n11:20 400m M R1\n15:00 Shot Put M Final (Οδυσσέας Μουζενίδης)\n15:05 60m Hurdles M R1\n15:20 Pole Vault M Final (Εμμανουήλ Καραλής)\n15:25 60m Hurdles W R1 (Αναΐς Καραγιάννη)\n15:45 800m W Final\n15:45 Triple Jump W Final\n16:00 60m M R1 (Φώτης Ιωάννου – CYP)\n16:15 60m W R1 (Σάντα Κολομεΐτεβα – CYP)\n16:20 Shot Put W Final\n16:30 1500m M Final\n16:40 High Jump W Final (Άλκηστις Βαγγέλη\, Δέσποινα Χαραλάμπους – CYP)\n16:45 60m Hurdles M Final\n16:45 Long Jump M Final (Μίλτος Τεντόγλου)\n16:55 60m Hurdles W Final (Αναΐς Καραγιάννη)\n17:05 800m M Final (Θάνος Καλάκος)\n17:20 400m W Final\n17:30 400m M Final\n17:40 1500m W Final\n17:50 60m M Final (Φώτης Ιωάννου – CYP)\n18:00 60m W Final (Σάντα Κολομεΐτεβα – CYP)
URL:https://www.stivoz.gr/event/miramas2019/
CATEGORIES:Ημερολόγιο αγώνων
END:VEVENT
END:VCALENDAR