BEGIN:VCALENDAR
VERSION:2.0
PRODID:-//StivoZ.gr - ECPv5.16.4//NONSGML v1.0//EN
CALSCALE:GREGORIAN
METHOD:PUBLISH
X-WR-CALNAME:StivoZ.gr
X-ORIGINAL-URL:https://www.stivoz.gr
X-WR-CALDESC:StivoZ.gr - Εκδηλώσεις
BEGIN:VTIMEZONE
TZID:Europe/Athens
BEGIN:DAYLIGHT
TZOFFSETFROM:+0200
TZOFFSETTO:+0300
TZNAME:EEST
DTSTART:20190331T010000
END:DAYLIGHT
BEGIN:STANDARD
TZOFFSETFROM:+0300
TZOFFSETTO:+0200
TZNAME:EET
DTSTART:20191027T010000
END:STANDARD
END:VTIMEZONE
BEGIN:VEVENT
DTSTART;VALUE=DATE:20190424
DTEND;VALUE=DATE:20190425
DTSTAMP:20260419T192758
CREATED:20190417T074843Z
LAST-MODIFIED:20200621T095906Z
UID:48151-1556064000-1556150399@www.stivoz.gr
SUMMARY:Μιραμπέλο (Αγ.Νικόλαος)
DESCRIPTION:Σχετικά θέματα:\n– https://www.stivoz.gr/mirampelo-2019-ag-nikolaos/ (αποτελέσματα) \nΠρόγραμμα: \n16:30 μ.μ. 40 μ. Νηπιαγωγείο – Α΄ Β΄ Δημοτικού\n16:30 μ.μ. Μήκος Μίνι ΠΠ-ΠΚ (3 άλματα)\n16:30 μ.μ. Μπαλάκι ΠΠ- ΠΚ Β΄ (3 βολές)\n16:50 μ.μ. Ύψος ΠΠ -ΠΚΑ΄\n16:50 μ.μ. 60μ. Εμπ. ΠΚΒ΄\n17:00 μ.μ. 60μ. Εμπ. ΠΠΒ΄\n17:10 μ.μ. 50 μ. Μίνι ΠΠ-ΠΚ\n17:30 μ.μ. 80 μ. ΠΚ Α΄\n17:30 μ.μ. Μήκος Α-Γ-ΠΠ-ΠΚΑ΄\n17:30 μ.μ. Μπαλάκι Μίνι ΠΠ- ΠΚ (3 βολές)\n17:40 μ.μ. 80 μ. ΠΚ Α΄\n17:50 μ.μ. 150 μ. ΠΠ – ΠΚ Α΄\n18:00 μ.μ. 300 μ. Μίνι ΠΠ-ΠΚ Β΄\n18:10 μ.μ. 300 μ. ΠΠ-ΠΚ Β΄\n18:20 μ.μ. Ύψος Α-Γ\n18:20 μ.μ. Ακοντισμός ΠΠ Α΄- Π – Γ\n18:20 μ.μ. 600 μ. Μίνι ΠΠ-ΠΚ\n18:30 μ.μ. 600 μ. ΠΠ – ΠΚ Α΄\n18:45 μ.μ. 1.000 μ. ΠΠ-ΠΚ Α΄\n18:45 μ.μ. Μήκος ΠΠ-ΠΚ Β΄(3 άλματα)\n19:00 μ.μ. 100 μ. Α-Γ\n19:10 μ.μ. 400 μ. Α-Γ\n19:20 μ.μ. 400μ. Εμπ. Α \nΟι  αθλητές/τριες θα δηλώνονται  στη γραμματεία των αγώνων 45΄- 60΄ πριν από την έναρξη κάθε αγωνίσματος\, παρουσιάζοντας απαραίτητα το δελτίο τους.
URL:https://www.stivoz.gr/event/mirabello-2019/
CATEGORIES:Ημερολόγιο αγώνων
END:VEVENT
END:VCALENDAR