BEGIN:VCALENDAR
VERSION:2.0
PRODID:-//StivoZ.gr - ECPv5.16.4//NONSGML v1.0//EN
CALSCALE:GREGORIAN
METHOD:PUBLISH
X-WR-CALNAME:StivoZ.gr
X-ORIGINAL-URL:https://www.stivoz.gr
X-WR-CALDESC:StivoZ.gr - Εκδηλώσεις
BEGIN:VTIMEZONE
TZID:Europe/Athens
BEGIN:DAYLIGHT
TZOFFSETFROM:+0200
TZOFFSETTO:+0300
TZNAME:EEST
DTSTART:20130331T010000
END:DAYLIGHT
BEGIN:STANDARD
TZOFFSETFROM:+0300
TZOFFSETTO:+0200
TZNAME:EET
DTSTART:20131027T010000
END:STANDARD
END:VTIMEZONE
BEGIN:VEVENT
DTSTART;VALUE=DATE:20130626
DTEND;VALUE=DATE:20130630
DTSTAMP:20260421T022527
CREATED:20120814T224954Z
LAST-MODIFIED:20181218T095331Z
UID:28722-1372237200-1372539600@www.stivoz.gr
SUMMARY:Μεσογειακοί Αγώνες (Μερσίνη)
DESCRIPTION:www.mersin2013.gov.tr \n-> αποτελέσματα \nΣχετικά θέματα:\n– www.stivoz.com/forum/showthread.php?9092 (ομάδα)\n– www.stivoz.com/forum/showthread.php?9198 (Α’)\n– www.stivoz.com/forum/showthread.php?9205 (Β’ πρωί)\n– www.stivoz.com/forum/showthread.php?9213 (Β’ απογ.)\n– www.stivoz.com/forum/showthread.php?9229 (Γ’)\n– www.stivoz.com/forum/showthread.php?9243 (Δ’)\n– www.stivoz.com/forum/showthread.php?9195 (αποτελέσματα) \nΠρόγραμμα: \nΤε 26/6 \n17.30 Σφύρα Γ τελικός\n18.10 1500μ Α ΑΜΕΑ προκρ.\n18.40 110μ εμπ. Α προκρ.\n19.00 200μ Γ προκρ.\n19.05 Τριπλούν Α τελικός\n19.20 200μ Α προκρ.\n19.25 Επικοντώ Γ τελικός\n19.40 400μ εμπ. Γ προκρ.\n20.00 1500μ Γ τελικός\n20.10 Ακοντισμός Α τελικός\n20.20 110μ εμπ Α τελικός\n20.35 200μ Γ τελικός\n20.45 200μ Α τελικός\n21.05 10χλμ Γ  \nΠε 27/6 \n08.00 20χλμ βάδην Γ\n18.00 Ύψος Α τελικός\n18.15 Δίσκος Α τελικός\n18.45 1500μ Α ΑΜΕΑ τελικός\n19.00 100μ Γ προκρ.\n19.20 100μ Α προκρ.\n19.40 400μ Α προκρ.\n20.10 400μ εμπ. Γ τελικός\n20.20 Μήκος Γ τελικός\n20.25 1500μ Α τελικός\n20.40 100μ Γ τελικός\n20.50 100μ Α τελικός\n21.05 10χλμ Α  \nΠα 28/6 \n17.30 Σφύρα Α τελικός\n17.35 100μ εμπ. 7θλο\n18.10 Ύψος 7θλο\n18.35 400μ Γ τελικός\n18.50 400μ Α τελικός\n19.05 400μ εμπ. Α προκρ.\n19.25 Επικοντώ Α τελικός\n19.30 3χλμ στηπλ Γ τελικός\n19.35 Ακοντισμός Γ τελικός\n19.50 100μ εμπ. Γ τελικός\n19.55 Σφαίρα 7θλο\n20.05 800μ Α προκρ.\n20.20 Τριπλούν Γ τελικός\n20.30 3χλμ στηπλ Α τελικός\n20.45 4χ100μ Α τελικός\n20.55 4χ100μ Γ τελικός\n21.00 200μ 7θλο\n21.10 5χλμ Γ τελικός \nΣα 29/9 \n08.00 Ημιμαραθώνιοι Α & Γ\n17.30 Μήκος 7θλο\n18.15 Ύψος Γ τελικός\n18.30 Ακοντισμός 7θλο\n19.00 Δίσκος Γ τελικός\n19.15 Μήκος Α τελικός\n19.30 400μ εμπ. Α τελικός\n19.35 Σφαίρα Α τελικός\n19.45 800μ Γ τελικός\n20.00 800μ Α τελικός\n20.10 800μ 7θλο\n20.25 5χλμ Α τελικός\n20.50 4χ400μ Γ τελικός\n21.10 4χ400μ Α τελικός
URL:https://www.stivoz.gr/event/mersin2013/
CATEGORIES:Ημερολόγιο αγώνων
END:VEVENT
END:VCALENDAR