BEGIN:VCALENDAR
VERSION:2.0
PRODID:-//StivoZ.gr - ECPv5.16.4//NONSGML v1.0//EN
CALSCALE:GREGORIAN
METHOD:PUBLISH
X-WR-CALNAME:StivoZ.gr
X-ORIGINAL-URL:https://www.stivoz.gr
X-WR-CALDESC:StivoZ.gr - Εκδηλώσεις
BEGIN:VTIMEZONE
TZID:Europe/Athens
BEGIN:DAYLIGHT
TZOFFSETFROM:+0200
TZOFFSETTO:+0300
TZNAME:EEST
DTSTART:20080330T010000
END:DAYLIGHT
BEGIN:STANDARD
TZOFFSETFROM:+0300
TZOFFSETTO:+0200
TZNAME:EET
DTSTART:20081026T010000
END:STANDARD
END:VTIMEZONE
BEGIN:VEVENT
DTSTART;VALUE=DATE:20080712
DTEND;VALUE=DATE:20080714
DTSTAMP:20260420T065547
CREATED:20071011T121109Z
LAST-MODIFIED:20181208T172941Z
UID:28170-1215853200-1215982800@www.stivoz.gr
SUMMARY:meeting & Π.Π. ΠΠ/ΠΚ συνθέτων - Ναύπλιο
DESCRIPTION:Σχετικά θέματα:\nhttp://www.stivoz.gr/?p=16733 (αποτελέσματα) \nΑ΄ ΗΜΕΡΑ : ΣΑΒΒΑΤΟ 12 / 7 / 08 \n09.30 80 μ ΕΜΠ. ΠΕΝΤΑΘΛΟΥ ΠΚ\n10.00 100 μ ΕΜΠ. ΕΞΑΘΛΟΥ ΠΠ\n10.30 ΜΗΚΟΣ ΠΕΝΤΑΘΛΟΥ ΠΚ\n11.30 ΜΗΚΟΣ ΕΞΑΘΛΟΥ ΠΠ \n17.30 ΣΦΑΙΡΟΒΟΛΙΑ ΕΞΑΘΛΟΥ ΠΠ\n18.30 ΣΦΑΙΡΟΒΟΛΙΑ ΠΕΝΤΑΘΛΟΥ ΠΚ\n18.30 ΥΨΟΣ ΕΞΑΘΛΟΥ\n19.30 ΑΚΟΝΤΙΣΜΟΣ ΠΕΝΤΑΘΛΟΥ ΠΚ \nΒ’ ΗΜΕΡΑ : ΚΥΡΙΑΚΗ 13 / 7 / 08 \n09.30 ΑΚΟΝΤΙΣΜΟΣ ΕΞΑΘΛΟΥ ΠΠ\n10.30 600 μ. ΠΕΝΤΑΘΛΟΥ ΠΚ\n11.00 1.000 μ. ΕΞΑΘΛΟΥ ΠΠ
URL:https://www.stivoz.gr/event/meeting-amp/
CATEGORIES:Ημερολόγιο αγώνων
END:VEVENT
END:VCALENDAR