BEGIN:VCALENDAR
VERSION:2.0
PRODID:-//StivoZ.gr - ECPv5.16.4//NONSGML v1.0//EN
CALSCALE:GREGORIAN
METHOD:PUBLISH
X-WR-CALNAME:StivoZ.gr
X-ORIGINAL-URL:https://www.stivoz.gr
X-WR-CALDESC:StivoZ.gr - Εκδηλώσεις
BEGIN:VTIMEZONE
TZID:Europe/Athens
BEGIN:DAYLIGHT
TZOFFSETFROM:+0200
TZOFFSETTO:+0300
TZNAME:EEST
DTSTART:20210328T010000
END:DAYLIGHT
BEGIN:STANDARD
TZOFFSETFROM:+0300
TZOFFSETTO:+0200
TZNAME:EET
DTSTART:20211031T010000
END:STANDARD
END:VTIMEZONE
BEGIN:VEVENT
DTSTART;VALUE=DATE:20210217
DTEND;VALUE=DATE:20210218
DTSTAMP:20260419T175622
CREATED:20210209T130856Z
LAST-MODIFIED:20211210T102006Z
UID:72417-1613520000-1613606399@www.stivoz.gr
SUMMARY:meet.Torun
DESCRIPTION:Σχετικά θέματα:\n– www.stivoz.gr/torun-megalo-alma-i-papachristou-super-800ari-giles/
URL:https://www.stivoz.gr/event/meet-torun-2021/
CATEGORIES:Ημερολόγιο αγώνων
END:VEVENT
END:VCALENDAR