BEGIN:VCALENDAR
VERSION:2.0
PRODID:-//StivoZ.gr - ECPv5.16.4//NONSGML v1.0//EN
CALSCALE:GREGORIAN
METHOD:PUBLISH
X-WR-CALNAME:StivoZ.gr
X-ORIGINAL-URL:https://www.stivoz.gr
X-WR-CALDESC:StivoZ.gr - Εκδηλώσεις
BEGIN:VTIMEZONE
TZID:Europe/Athens
BEGIN:STANDARD
TZOFFSETFROM:+0200
TZOFFSETTO:+0200
TZNAME:EET
DTSTART:20100101T000000
END:STANDARD
END:VTIMEZONE
BEGIN:VEVENT
DTSTART;VALUE=DATE:20100527
DTEND;VALUE=DATE:20260421
DTSTAMP:20260420T070523
CREATED:20100211T183707Z
LAST-MODIFIED:20211210T104510Z
UID:28409-1274918400-0@www.stivoz.gr
SUMMARY:ch.meet. Ostrava
DESCRIPTION:http://www.zlatatretra.cz/
URL:https://www.stivoz.gr/event/meet-ostrava-2010/
CATEGORIES:Ημερολόγιο αγώνων
END:VEVENT
END:VCALENDAR