BEGIN:VCALENDAR
VERSION:2.0
PRODID:-//StivoZ.gr - ECPv5.16.4//NONSGML v1.0//EN
CALSCALE:GREGORIAN
METHOD:PUBLISH
X-WR-CALNAME:StivoZ.gr
X-ORIGINAL-URL:https://www.stivoz.gr
X-WR-CALDESC:StivoZ.gr - Εκδηλώσεις
BEGIN:VTIMEZONE
TZID:Europe/Athens
BEGIN:DAYLIGHT
TZOFFSETFROM:+0200
TZOFFSETTO:+0300
TZNAME:EEST
DTSTART:20200329T010000
END:DAYLIGHT
BEGIN:STANDARD
TZOFFSETFROM:+0300
TZOFFSETTO:+0200
TZNAME:EET
DTSTART:20201025T010000
END:STANDARD
END:VTIMEZONE
BEGIN:VEVENT
DTSTART;VALUE=DATE:20200219
DTEND;VALUE=DATE:20200220
DTSTAMP:20260420T110312
CREATED:20200103T115133Z
LAST-MODIFIED:20211210T102056Z
UID:62273-1582070400-1582156799@www.stivoz.gr
SUMMARY:meet.Lievin
DESCRIPTION:https://meetinglievin.com/en/ \nΣχετικά θέματα:\n– www.stivoz.gr/apopeires-rekor-kai-pagkosmio-k20-sto-lievin/
URL:https://www.stivoz.gr/event/meet-lievin-2020/
CATEGORIES:Ημερολόγιο αγώνων
END:VEVENT
END:VCALENDAR