BEGIN:VCALENDAR
VERSION:2.0
PRODID:-//StivoZ.gr - ECPv5.16.4//NONSGML v1.0//EN
CALSCALE:GREGORIAN
METHOD:PUBLISH
X-WR-CALNAME:StivoZ.gr
X-ORIGINAL-URL:https://www.stivoz.gr
X-WR-CALDESC:StivoZ.gr - Εκδηλώσεις
BEGIN:VTIMEZONE
TZID:Europe/Athens
BEGIN:STANDARD
TZOFFSETFROM:+0200
TZOFFSETTO:+0200
TZNAME:EET
DTSTART:20080101T000000
END:STANDARD
END:VTIMEZONE
BEGIN:VEVENT
DTSTART;VALUE=DATE:20080210
DTEND;VALUE=DATE:20260424
DTSTAMP:20260423T162232
CREATED:20080131T084112Z
LAST-MODIFIED:20211210T105223Z
UID:28216-1202601600-0@www.stivoz.gr
SUMMARY:meeting Karlsruhe
DESCRIPTION:http://www.bw-bank-meeting.de/
URL:https://www.stivoz.gr/event/meet-karlsruhe-2008/
CATEGORIES:Ημερολόγιο αγώνων
END:VEVENT
END:VCALENDAR