BEGIN:VCALENDAR
VERSION:2.0
PRODID:-//StivoZ.gr - ECPv5.16.4//NONSGML v1.0//EN
CALSCALE:GREGORIAN
METHOD:PUBLISH
X-WR-CALNAME:StivoZ.gr
X-ORIGINAL-URL:https://www.stivoz.gr
X-WR-CALDESC:StivoZ.gr - Εκδηλώσεις
BEGIN:VTIMEZONE
TZID:Europe/Athens
BEGIN:DAYLIGHT
TZOFFSETFROM:+0200
TZOFFSETTO:+0300
TZNAME:EEST
DTSTART:20190331T010000
END:DAYLIGHT
BEGIN:STANDARD
TZOFFSETFROM:+0300
TZOFFSETTO:+0200
TZNAME:EET
DTSTART:20191027T010000
END:STANDARD
END:VTIMEZONE
BEGIN:VEVENT
DTSTART;VALUE=DATE:20190601
DTEND;VALUE=DATE:20190602
DTSTAMP:20260419T194204
CREATED:20190531T100740Z
LAST-MODIFIED:20200621T101339Z
UID:50676-1559347200-1559433599@www.stivoz.gr
SUMMARY:αγώνες Μάχης της Κρήτης (Χανιά)
DESCRIPTION:Σχετικά θέματα:\n– https://www.stivoz.gr/maxi-kritis-2019/ (αποτελέσματα) \nΠρόγραμμα: \n16.00 Δίσκος Κ18( Κ)\n16.00 Δίσκος Κ20 (Ε)\n16.00 Σφαίρα Κ16( ΠΚ)\n16.45 300 Εμπ Κ16 (ΠΚ)\n16.45 Μήκος Γ\n17.00 80 Κ16 (ΠΠ – ΠΚ)\n17.00 Επί Κοντώ Γ\n17.00 Δίσκος Κ16 (ΠΚ)\n17.00 Σφαίρα Κ18 (Κ)\n17.00 Σφαίρα Κ18 (Π)\n17.00 Σφαίρα Κ20 (Ε)\n17.30 100 Α – Γ\n17.40 Μήκος Α\n17.40 Τριπλούν Γ\n17.50 600 Κ16 (ΠΠ – ΠΚ)\n17.50 Ύψος Γ\n18.10 1.000 Κ16 (ΠΠ – ΠΚ)\n18.10 Ακόντιο Κ16 (ΠΠ)\n18.10 Ακόντιο Κ18 (Κ)\n18.30 150 Κ16 (ΠΠ – ΠΚ)\n18.30 Επί Κοντώ Α\n18.50 200 Α – Γ\n18.50 Ύψος Α\n19.10 1.500 Α – Γ\n19.25 300 Κ16 (ΠΠ – ΠΚ)\n19.25 Δίσκος Κ18 (Π)\n19.25 Δίσκος Γ\n19.45 800 Α – Γ\n20.00 400 Α – Γ\n20.15 4Χ 80 Κ16 (ΠΠ-ΠΚ)\n20.30 4 Χ 100 Α – Γ \nΣΗΜΕΙΩΣΗ:\nΟ κάθε αθλητής – αθλήτρια δικαιούται να συμμετάσχει σε δύο το ανώτερο αγωνίσματα
URL:https://www.stivoz.gr/event/maxii-kritis-2019/
CATEGORIES:Ημερολόγιο αγώνων
END:VEVENT
END:VCALENDAR