BEGIN:VCALENDAR
VERSION:2.0
PRODID:-//StivoZ.gr - ECPv5.16.4//NONSGML v1.0//EN
CALSCALE:GREGORIAN
METHOD:PUBLISH
X-WR-CALNAME:StivoZ.gr
X-ORIGINAL-URL:https://www.stivoz.gr
X-WR-CALDESC:StivoZ.gr - Εκδηλώσεις
BEGIN:VTIMEZONE
TZID:Europe/Athens
BEGIN:DAYLIGHT
TZOFFSETFROM:+0200
TZOFFSETTO:+0300
TZNAME:EEST
DTSTART:20200329T010000
END:DAYLIGHT
BEGIN:STANDARD
TZOFFSETFROM:+0300
TZOFFSETTO:+0200
TZNAME:EET
DTSTART:20201025T010000
END:STANDARD
END:VTIMEZONE
BEGIN:VEVENT
DTSTART;VALUE=DATE:20200621
DTEND;VALUE=DATE:20200622
DTSTAMP:20260420T223152
CREATED:20200621T101451Z
LAST-MODIFIED:20200621T144257Z
UID:67774-1592697600-1592783999@www.stivoz.gr
SUMMARY:αγώνες Μάχης της Κρήτης (Χανιά)
DESCRIPTION:Σχετικά θέματα:\n– www.stivoz.gr/maxi-kritis-2020/ (αποτελέσματα)
URL:https://www.stivoz.gr/event/maxi-kritis-2020/
CATEGORIES:Ημερολόγιο αγώνων
END:VEVENT
END:VCALENDAR