BEGIN:VCALENDAR
VERSION:2.0
PRODID:-//StivoZ.gr - ECPv5.16.4//NONSGML v1.0//EN
CALSCALE:GREGORIAN
METHOD:PUBLISH
X-WR-CALNAME:StivoZ.gr
X-ORIGINAL-URL:https://www.stivoz.gr
X-WR-CALDESC:StivoZ.gr - Εκδηλώσεις
BEGIN:VTIMEZONE
TZID:Europe/Athens
BEGIN:DAYLIGHT
TZOFFSETFROM:+0200
TZOFFSETTO:+0300
TZNAME:EEST
DTSTART:20210328T010000
END:DAYLIGHT
BEGIN:STANDARD
TZOFFSETFROM:+0300
TZOFFSETTO:+0200
TZNAME:EET
DTSTART:20211031T010000
END:STANDARD
END:VTIMEZONE
BEGIN:VEVENT
DTSTART;VALUE=DATE:20210522
DTEND;VALUE=DATE:20210524
DTSTAMP:20260422T092551
CREATED:20210519T135926Z
LAST-MODIFIED:20210524T063028Z
UID:77252-1621641600-1621814399@www.stivoz.gr
SUMMARY:Μάτσεια & Παγκύπριοι συνθέτων (Λεμεσός)
DESCRIPTION:Σχετικά θέματα:\n– www.stivoz.gr/grigora-400aria-sta-matseia/\n– www.stivoz.gr/matseia-2021/ (αποτελέσματα – Μάτσεια)\n– www.stivoz.gr/pagkyprio-ce-2021/ (αποτελέσματα – σύνθετα) \n-> προκήρυξη Μάτσεια\n-> προκήρυξη συνθέτων Α/Κ & Κ20
URL:https://www.stivoz.gr/event/matseia-2021/
CATEGORIES:Ημερολόγιο αγώνων
END:VEVENT
END:VCALENDAR