BEGIN:VCALENDAR
VERSION:2.0
PRODID:-//StivoZ.gr - ECPv5.16.4//NONSGML v1.0//EN
CALSCALE:GREGORIAN
METHOD:PUBLISH
X-WR-CALNAME:StivoZ.gr
X-ORIGINAL-URL:https://www.stivoz.gr
X-WR-CALDESC:StivoZ.gr - Εκδηλώσεις
BEGIN:VTIMEZONE
TZID:Europe/Athens
BEGIN:DAYLIGHT
TZOFFSETFROM:+0200
TZOFFSETTO:+0300
TZNAME:EEST
DTSTART:20190331T010000
END:DAYLIGHT
BEGIN:STANDARD
TZOFFSETFROM:+0300
TZOFFSETTO:+0200
TZNAME:EET
DTSTART:20191027T010000
END:STANDARD
END:VTIMEZONE
BEGIN:VEVENT
DTSTART;VALUE=DATE:20190518
DTEND;VALUE=DATE:20190520
DTSTAMP:20260420T001332
CREATED:20190425T073435Z
LAST-MODIFIED:20220519T062635Z
UID:48504-1558137600-1558310399@www.stivoz.gr
SUMMARY:58α Μάτσεια (Λευκωσία)
DESCRIPTION:Σχετικά θέματα:\n– https://www.stivoz.gr/katoxos-tou-rekor-kyprou-pleon-o-batzavalis/\n– https://www.stivoz.gr/matseia-2019/ (αποτελέσματα) \n-> Προκήρυξη \nΗ Alfasports θα καλύψει μέσω Livestreaming τη διοργάνωση \nΠρόγραμμα: \nΣάββατο 18/5 \n16.00 ΣΦΥΡΟΒΟΛΙΑ ΓΥΝΑΙΚΩΝ\n17.30 Τελετή έναρξης\n17.45 ΑΛΜΑ ΕΠΙ ΚΟΝΤΩ ΓΥΝΑΙΚΩΝ\n17.45 ΔΙΣΚΟΣ ΑΝΔΡΩΝ\n17.45 ΜΗΚΟΣ ΑΝΔΡΩΝ\n17.45 100Μ. ΓΥΝΑΙΚΩΝ\n18.00 100Μ ΑΝΔΡΩΝ\n18.15 1500Μ. ΓΥΝΑΙΚΩΝ\n18.25 1500Μ. ΑΝΔΡΩΝ\n18.25 ΥΨΟΣ ΓΥΝΑΙΚΩΝ\n18.35 400Μ. ΓΥΝΑΙΚΩΝ\n18.45 400Μ. ΑΝΔΡΩΝ\n19.00 ΔΙΣΚΟΣ ΓΥΝΑΙΚΩΝ\n19.00 ΜΗΚΟΣ ΓΥΝΑΙΚΩΝ\n19.00 100Μ. ΕΜΠΟΔΙΑ ΓΥΝΑΙΚΩΝ\n19.15 110Μ. ΕΜΠΟΔΙΑ ΑΝΔΡΩΝ\n19.30 3000Μ. ΣΤΗΠΛ ΑΝΔΡΩΝ\n19.45 3000Μ. ΣΤΗΠΛ ΓΥΝΑΙΚΩΝ\n20.05 4 χ 100Μ. ΓΥΝΑΙΚΩΝ\n20.15 4 χ 100Μ. ΑΝΔΡΩΝ \nΚυριακή 19/5 \n16.00 ΣΦΥΡΟΒΟΛΙΑ ΑΝΔΡΩΝ\n17.00 ΥΨΟΣ ΑΝΔΡΩΝ\n17.00 ΤΡΙΠΛΟΥΝ ΓΥΝΑΙΚΩΝ\n17.00 ΑΛΜΑ ΕΠΙ ΚΟΝΤΩ ΑΝΔΡΩΝ\n17.00 ΣΦΑΙΡΟΒΟΛΙΑ ΓΥΝΑΙΚΩΝ\n17.00 400Μ. ΕΜΠΟΔΙΑ ΓΥΝΑΙΚΩΝ\n17.15 400Μ. ΕΜΠΟΔΙΑ ΑΝΔΡΩΝ\n17.30 800Μ. ΓΥΝΑΙΚΩΝ\n17.45 800Μ. ΑΝΔΡΩΝ\n18.00 ΑΚΟΝΤΙΣΜΟΣ ΑΝΔΡΩΝ\n18.00 200Μ. ΓΥΝΑΙΚΩΝ\n18.15 200Μ. ΑΝΔΡΩΝ\n18.30 ΤΡΙΠΛΟΥΝ ΑΝΔΡΩΝ\n18.30 ΣΦΑΙΡΟΒΟΛΙΑ ΑΝΔΡΩΝ\n18.30 5000Μ. ΓΥΝΑΙΚΩΝ\n19.00 5000Μ. ΑΝΔΡΩΝ\n19.00 ΑΚΟΝΤΙΣΜΟΣ ΓΥΝΑΙΚΩΝ\n19.30 4 χ 400Μ. ΓΥΝΑΙΚΩΝ\n19.40 4 χ 400Μ. ΑΝΔΡΩΝ \n 
URL:https://www.stivoz.gr/event/matseia-2019/
LOCATION:ΓΣΠ\, Λεωφόρος Παγκυπρίων\, Στρόβολος\, 21099\, Κύπρος
CATEGORIES:Ημερολόγιο αγώνων
END:VEVENT
END:VCALENDAR