BEGIN:VCALENDAR
VERSION:2.0
PRODID:-//StivoZ.gr - ECPv5.16.4//NONSGML v1.0//EN
CALSCALE:GREGORIAN
METHOD:PUBLISH
X-WR-CALNAME:StivoZ.gr
X-ORIGINAL-URL:https://www.stivoz.gr
X-WR-CALDESC:StivoZ.gr - Εκδηλώσεις
BEGIN:VTIMEZONE
TZID:Europe/Athens
BEGIN:DAYLIGHT
TZOFFSETFROM:+0200
TZOFFSETTO:+0300
TZNAME:EEST
DTSTART:20120325T010000
END:DAYLIGHT
BEGIN:STANDARD
TZOFFSETFROM:+0300
TZOFFSETTO:+0200
TZNAME:EET
DTSTART:20121028T010000
END:STANDARD
END:VTIMEZONE
BEGIN:VEVENT
DTSTART;VALUE=DATE:20120519
DTEND;VALUE=DATE:20120521
DTSTAMP:20260420T023951
CREATED:20120519T111147Z
LAST-MODIFIED:20220519T062735Z
UID:28686-1337446800-1337547600@www.stivoz.gr
SUMMARY:Εαρινοί αγώνες "Μάτσεια" (Λευκωσία)
DESCRIPTION:Σχετικά θέματα:\n– www.stivoz.com/forum/showthread.php?6855\n– www.stivoz.com/forum/showthread.php?6853 (αποτελέσματα) \nΣάββατο 19 Μαΐου \n5.00μ.μ σφυροβολία γυναικών\n6.00μ.μ. Τελετή έναρξης\n6.15μ.μ. Επι κοντώ γυναικών\, δίσκος ανδρών\, τριπλούν γυναικών\n6.15μ.μ 100μ. γυναικών\,\n6.30μ.μ. 100μ. ανδρών\n6.45μ.μ. 1500μ. γυναικών\n6.55μ.μ 1500μ. ανδρών\, ύψος γυναικών\n7.10μ.μ 400μ. γυναικών σειρές\n7.20μ.μ. 400μ. ανδρών σειρές\n7.35μ.μ δίσκος γυναικών\, μήκος ανδρών\n7.35μ.μ 100μ εμποδια σειρές\, \,\n7.50μ.μ. 110μ. εμπόδια σειρές\n8.05μ.μ 3000μ.στήπλ ανδρών\n8.15μ.μ Ακοντισμός ανδρών\n8.30μ.μ. 3000στήπλ γυναικών\n8.50μ.μ 4Χ100 γυναικών\n9.00μ.μ. 4Χ100 ανδρών \nΚυριακή 20 Μαΐου \n5.00μ.μ σφυροβολία ανδρών\n6.00μ.μ ύψος ανδρών\,τριπλούν ανδρών\, επί κοντώ ανδρών\, σφαιροβολία ανδρών\n6.00μ.μ  400μ.εμπ. γυναικών σειρές\,\n6.15μ.μ. 400μ. εμπόδια ανδρών σειρές\n6.30μ.μ Ακοντισμός γυναικών\n6.40μ.μ 5000μ. γυναικών\n7.00μ.μ 800μ. γυναικών\n7.15μ.μ 800μ. ανδρών\n7.30μ.μ μήκος γυναικών\, σφαιροβολία γυναικών\,\n7.30μ.μ. 200μ. γυναικών σειρές\,\n7.45μ.μ 200μ. ανδρών σειρές\n8.00μ.μ 5000μ. ανδρών\n8.30μ.μ 4Χ400 γυναικών\n8.45μ.μ 4Χ400μ Ανδρών
URL:https://www.stivoz.gr/event/matseia-2012/
CATEGORIES:Ημερολόγιο αγώνων
END:VEVENT
END:VCALENDAR