BEGIN:VCALENDAR
VERSION:2.0
PRODID:-//StivoZ.gr - ECPv5.16.4//NONSGML v1.0//EN
CALSCALE:GREGORIAN
METHOD:PUBLISH
X-WR-CALNAME:StivoZ.gr
X-ORIGINAL-URL:https://www.stivoz.gr
X-WR-CALDESC:StivoZ.gr - Εκδηλώσεις
BEGIN:VTIMEZONE
TZID:Europe/Athens
BEGIN:DAYLIGHT
TZOFFSETFROM:+0200
TZOFFSETTO:+0300
TZNAME:EEST
DTSTART:20090329T010000
END:DAYLIGHT
BEGIN:STANDARD
TZOFFSETFROM:+0300
TZOFFSETTO:+0200
TZNAME:EET
DTSTART:20091025T010000
END:STANDARD
END:VTIMEZONE
BEGIN:VEVENT
DTSTART;VALUE=DATE:20090728
DTEND;VALUE=DATE:20090809
DTSTAMP:20260420T200904
CREATED:20090512T214745Z
LAST-MODIFIED:20181208T172920Z
UID:28312-1248771600-1249761600@www.stivoz.gr
SUMMARY:Παγκόσμιο Βετεράνων (Lahti Φινλανδίας)
DESCRIPTION:http://english.wma2009.org/ \nteam manual: http://wma2009.org/wp-content/uploads/wma2009-entry-booklet.pdf
URL:https://www.stivoz.gr/event/lahti/
CATEGORIES:Ημερολόγιο αγώνων
END:VEVENT
END:VCALENDAR