BEGIN:VCALENDAR
VERSION:2.0
PRODID:-//StivoZ.gr - ECPv5.16.4//NONSGML v1.0//EN
CALSCALE:GREGORIAN
METHOD:PUBLISH
X-WR-CALNAME:StivoZ.gr
X-ORIGINAL-URL:https://www.stivoz.gr
X-WR-CALDESC:StivoZ.gr - Εκδηλώσεις
BEGIN:VTIMEZONE
TZID:Europe/Athens
BEGIN:STANDARD
TZOFFSETFROM:+0200
TZOFFSETTO:+0200
TZNAME:EET
DTSTART:20090101T000000
END:STANDARD
END:VTIMEZONE
BEGIN:VEVENT
DTSTART;VALUE=DATE:20090613
DTEND;VALUE=DATE:20260422
DTSTAMP:20260421T060003
CREATED:20090611T121618Z
LAST-MODIFIED:20181208T172922Z
UID:28330-1244851200-0@www.stivoz.gr
SUMMARY:Κοροίβεια (Αμαλιάδα)
DESCRIPTION:σε συνεργασία με την ΕΑΣ ΣΕΓΑΣ Βόρειας Πελοποννήσου υπό την αιγίδα του Δήμου Αμαλιάδας.\nΤο πρόγραμμα (ΔΑΚ Αμαλιάδας\, 13/6) \n16.50 60μ ΠΚ Β΄\, Μήκος ΠΚ Α΄\, Σφαίρα ΠΠ Α΄\n17.00 60μ ΠΠ Β΄\n17.10 80μ ΠΚ Α΄\n17.20 80μ ΠΠ Α΄\n17.30 600μ ΠΠ Α΄\, Μήκος ΠΠ Α΄\, Σφαίρα Γ\n17.40 1.000μ ΠΚ Α΄\n17.45 Ύψος Γ\n17.50 100μ εμπόδια ΠΚ Α΄\n18.00 100μ εμπόδια ΠΠ Α΄\n18.10 200μ Γ\, Μήκος Γ\, Ακόντιο Γ\n18.20 200μ Α\n18.30 1.500μ Γ\n18.40 1.500μ Α\n18.50 300μ ΠΠ Α΄\n19.00 100μ Α\, Ύψος Α\n19.10 800μ Α\, Μήκος Α\, Ακόντιο Α\n19.20 400μ Γ\n19.30 4χ100μ Α\n19.40 5.000μ βάδην ΠΠ Α΄\n19.45 2.000μ ΠΚ Β΄
URL:https://www.stivoz.gr/event/koroiveia-amaliada/
CATEGORIES:Ημερολόγιο αγώνων
END:VEVENT
END:VCALENDAR