BEGIN:VCALENDAR
VERSION:2.0
PRODID:-//StivoZ.gr - ECPv5.16.4//NONSGML v1.0//EN
CALSCALE:GREGORIAN
METHOD:PUBLISH
X-WR-CALNAME:StivoZ.gr
X-ORIGINAL-URL:https://www.stivoz.gr
X-WR-CALDESC:StivoZ.gr - Εκδηλώσεις
BEGIN:VTIMEZONE
TZID:Europe/Athens
BEGIN:DAYLIGHT
TZOFFSETFROM:+0200
TZOFFSETTO:+0300
TZNAME:EEST
DTSTART:20100328T010000
END:DAYLIGHT
BEGIN:STANDARD
TZOFFSETFROM:+0300
TZOFFSETTO:+0200
TZNAME:EET
DTSTART:20101031T010000
END:STANDARD
END:VTIMEZONE
BEGIN:VEVENT
DTSTART;VALUE=DATE:20101006
DTEND;VALUE=DATE:20101015
DTSTAMP:20260424T132702
CREATED:20070807T093430Z
LAST-MODIFIED:20181208T172902Z
UID:28096-1286323200-1287093600@www.stivoz.gr
SUMMARY:Κοινοπολιτειακοί - Δελχί
DESCRIPTION:www.cwgdelhi2010.com \nπρόγραμμα: http://results.cwgdelhi2010.org/en/Comp.mvc/DetailedScheduleByDate?sportCode=AT&expandAll=True
URL:https://www.stivoz.gr/event/koinopoliteiakoi-delchi/
CATEGORIES:Ημερολόγιο αγώνων
END:VEVENT
END:VCALENDAR