BEGIN:VCALENDAR
VERSION:2.0
PRODID:-//StivoZ.gr - ECPv5.16.4//NONSGML v1.0//EN
CALSCALE:GREGORIAN
METHOD:PUBLISH
X-WR-CALNAME:StivoZ.gr
X-ORIGINAL-URL:https://www.stivoz.gr
X-WR-CALDESC:StivoZ.gr - Εκδηλώσεις
BEGIN:VTIMEZONE
TZID:Europe/Athens
BEGIN:DAYLIGHT
TZOFFSETFROM:+0200
TZOFFSETTO:+0300
TZNAME:EEST
DTSTART:20090329T010000
END:DAYLIGHT
BEGIN:STANDARD
TZOFFSETFROM:+0300
TZOFFSETTO:+0200
TZNAME:EET
DTSTART:20091025T010000
END:STANDARD
END:VTIMEZONE
BEGIN:VEVENT
DTSTART;VALUE=DATE:20090716
DTEND;VALUE=DATE:20090720
DTSTAMP:20260421T101635
CREATED:20071014T092912Z
LAST-MODIFIED:20181218T103638Z
UID:28147-1247731200-1248037200@www.stivoz.gr
SUMMARY:7ο πανευρωπαικό πρ. Νεων - Kaunas
DESCRIPTION:http://www.kaunas2009.lt/ \nΣχετικά θέματα:\nhttp://www.stivoz.gr/?p=20457\nhttp://www.stivoz.gr/?p=10848\nhttp://www.stivoz.gr/?p=10847 (1η ημέρα)\nhttp://www.stivoz.gr/?p=10845 (2η ημέρα)\nhttp://www.stivoz.gr/?p=10844 (3η ημέρα)\nhttp://www.stivoz.gr/?p=10842 4η ημέρα)\nhttp://www.stivoz.com/forum/showthread.php?t=3317 (σχολιασμός) \n‘Ορια/ προυποθέσεις: www.stivoz.com/forum/showthread.php?t=2862
URL:https://www.stivoz.gr/event/kaunas2009/
CATEGORIES:Ημερολόγιο αγώνων
END:VEVENT
END:VCALENDAR