BEGIN:VCALENDAR
VERSION:2.0
PRODID:-//StivoZ.gr - ECPv5.16.4//NONSGML v1.0//EN
CALSCALE:GREGORIAN
METHOD:PUBLISH
X-WR-CALNAME:StivoZ.gr
X-ORIGINAL-URL:https://www.stivoz.gr
X-WR-CALDESC:StivoZ.gr - Εκδηλώσεις
BEGIN:VTIMEZONE
TZID:Europe/Athens
BEGIN:DAYLIGHT
TZOFFSETFROM:+0200
TZOFFSETTO:+0300
TZNAME:EEST
DTSTART:20190331T010000
END:DAYLIGHT
BEGIN:STANDARD
TZOFFSETFROM:+0300
TZOFFSETTO:+0200
TZNAME:EET
DTSTART:20191027T010000
END:STANDARD
END:VTIMEZONE
BEGIN:VEVENT
DTSTART;VALUE=DATE:20190605
DTEND;VALUE=DATE:20190606
DTSTAMP:20260419T184707
CREATED:20181223T110027Z
LAST-MODIFIED:20210518T075756Z
UID:41375-1559692800-1559779199@www.stivoz.gr
SUMMARY:meeting αλμάτων (Καλλιθέα)
DESCRIPTION:Σχετικά θέματα:\n– https://www.stivoz.gr/kallithea-kala-almata-papachristou-gusin-orio-o-merlos-pb-i-karydi/\n– https://www.stivoz.gr/kallithea-2019/ (αποτελέσματα) \n-> livestream \nΠρόγραμμα: \n14.00 ΕΠΙ ΚΟΝΤΩ ΓΥΝΑΙΚΩΝ -Ν-Κ\n15.15 ΤΡΙΠΛΟΥΝ ΓΥΝΑΙΚΩΝ -Ν-Κ\n16.30 ΥΨΟΣ ΓΥΝΑΙΚΩΝ -Ν-Κ\n16.30 ΜΗΚΟΣ ΑΝΔΡΩΝ -Ε-Π\n17.00 ΕΠΙ ΚΟΝΤΩ ΑΝΔΡΩΝ -Ε-Π\n17.45 ΜΗΚΟΣ ΓΥΝΑΙΚΩΝ -Ν-Κ\n18.30 ΥΨΟΣ ΑΝΔΡΩΝ -Ε-Π\n19.00 ΤΡΙΠΛΟΥΝ ΑΝΔΡΩΝ -Ε-Π \nΟι δηλώσεις συμμετοχής σύμφωνα με τις συνημμένες καταστάσεις υποβάλλονται στην Ε.Α.Σ. ΣΕΓΑΣ ΠΕΙΡΑΙΑ & ΝΟΤΙΟΔΥΤΙΚΗΣ ΑΤΤΙΚΗΣ στην ηλεκτρονική διεύθυνση: segaspeiraia@gmail.com το αργότερο μέχρι την ΠΑΡΑΣΚΕΥΗ 31/05/2019. \nΣτα αγωνίσματα του Ωρολογίου Προγράμματος\, θα συμμετέχουν οι καλύτεροι – ες δέκα (10) επιδόσεις με βάση τα στατιστικά στοιχεία του 2018 αλλά και των αγώνων που έχουν πραγματοποιηθεί μέσα στο 2019. \nΟι αρχικές λίστες συμμετοχής των αγώνων θα αναρτηθούν τη Δευτέρα 03/06/2019\, περιλαμβάνοντας τις δεκαπέντε (15) καλύτερες επιδόσεις\, έχοντας δηλαδή και πέντε επιλαχόντες αθλητές-τριες σε κάθε αγώνισμα. Ο αριθμός των συμμετοχών ανά αγώνισμα (10) θα τηρηθεί αυστηρά την ημέρα του αγώνα. \nΟι αθλητές – τριες θα δηλώνονται στη γραμματεία των αγώνων 60΄ πριν από την έναρξη κάθε αγωνίσματος\, παρουσιάζοντας απαραίτητα το δελτίο τους για να συμπληρωθεί στο πινάκιο ο αριθμός δελτίου του αθλητή.
URL:https://www.stivoz.gr/event/kallithea-2019/
LOCATION:Δημοτικό Στάδιο Καλλιθέας\, Γρίβα 3\, Καλλιθέα\, 17671
CATEGORIES:Ημερολόγιο αγώνων
END:VEVENT
END:VCALENDAR