BEGIN:VCALENDAR
VERSION:2.0
PRODID:-//StivoZ.gr - ECPv5.16.4//NONSGML v1.0//EN
CALSCALE:GREGORIAN
METHOD:PUBLISH
X-WR-CALNAME:StivoZ.gr
X-ORIGINAL-URL:https://www.stivoz.gr
X-WR-CALDESC:StivoZ.gr - Εκδηλώσεις
BEGIN:VTIMEZONE
TZID:Europe/Athens
BEGIN:DAYLIGHT
TZOFFSETFROM:+0200
TZOFFSETTO:+0300
TZNAME:EEST
DTSTART:20180325T010000
END:DAYLIGHT
BEGIN:STANDARD
TZOFFSETFROM:+0300
TZOFFSETTO:+0200
TZNAME:EET
DTSTART:20181028T010000
END:STANDARD
END:VTIMEZONE
BEGIN:VEVENT
DTSTART;VALUE=DATE:20180526
DTEND;VALUE=DATE:20180527
DTSTAMP:20260420T124212
CREATED:20180427T084458Z
LAST-MODIFIED:20190604T184155Z
UID:29342-1527292800-1527292800@www.stivoz.gr
SUMMARY:αγώνες αλμάτων (Καλλιθέα)
DESCRIPTION:Σχετικά θέματα:\n– www.stivoz.com/content.php?6689-H-Spanovic-ekane-theamatiki-arxi-stin-Kallithea\n– www.stivoz.com/forum/showthread.php?17641 (αποτελέσματα) \nΠρόγραμμα: \n16:30 Μήκος Α (σκ.2)\n16:30 Τριπλούν Γ (σκ.1)\n16:30 Επί κοντώ Γ\n17:00 Ύψος Γ\n17:30 4χ80μ. Δημοτικών Σχολείων\n18:00 Μήκος Γ\n18:30 Επί κοντώ Α\n19:00 Ύψος Α\n19:00 Τριπλούν Α\n19:00 4χ350μ. Δημοτικών Σχολείων \nΜε 12 ανά αγώνισμα βάσει στατιστικών 2017&2018\nΔηλώσεις συμμετοχής ως Τετάρτη 23/5 σε segaspeiraia@gmail.com
URL:https://www.stivoz.gr/event/kallithea-2018/
CATEGORIES:Ημερολόγιο αγώνων
END:VEVENT
END:VCALENDAR