BEGIN:VCALENDAR
VERSION:2.0
PRODID:-//StivoZ.gr - ECPv5.16.4//NONSGML v1.0//EN
CALSCALE:GREGORIAN
METHOD:PUBLISH
X-WR-CALNAME:StivoZ.gr
X-ORIGINAL-URL:https://www.stivoz.gr
X-WR-CALDESC:StivoZ.gr - Εκδηλώσεις
BEGIN:VTIMEZONE
TZID:Europe/Athens
BEGIN:STANDARD
TZOFFSETFROM:+0200
TZOFFSETTO:+0200
TZNAME:EET
DTSTART:20090101T000000
END:STANDARD
END:VTIMEZONE
BEGIN:VEVENT
DTSTART;VALUE=DATE:20090701
DTEND;VALUE=DATE:20260424
DTSTAMP:20260423T233406
CREATED:20090701T073343Z
LAST-MODIFIED:20181208T172921Z
UID:28185-1246406400-0@www.stivoz.gr
SUMMARY:Κ' Ολυμπια
DESCRIPTION:
URL:https://www.stivoz.gr/event/k-olympia/
CATEGORIES:Ημερολόγιο αγώνων
END:VEVENT
END:VCALENDAR